BEGIN:VCALENDAR
VERSION:2.0
PRODID:-//YOSSYxYOSSY OFFICIAL SITE - ECPv6.2.4//NONSGML v1.0//EN
CALSCALE:GREGORIAN
METHOD:PUBLISH
X-WR-CALNAME:YOSSYxYOSSY OFFICIAL SITE
X-ORIGINAL-URL:https://yossyxyossy.com
X-WR-CALDESC:YOSSYxYOSSY OFFICIAL SITE のイベント
REFRESH-INTERVAL;VALUE=DURATION:PT1H
X-Robots-Tag:noindex
X-PUBLISHED-TTL:PT1H
BEGIN:VTIMEZONE
TZID:Asia/Tokyo
BEGIN:STANDARD
TZOFFSETFROM:+0900
TZOFFSETTO:+0900
TZNAME:JST
DTSTART:20250101T000000
END:STANDARD
END:VTIMEZONE
BEGIN:VEVENT
DTSTART;VALUE=DATE:20250314
DTEND;VALUE=DATE:20250315
DTSTAMP:20260423T104949
CREATED:20250307T121653Z
LAST-MODIFIED:20250307T121653Z
UID:1174-1741910400-1741996799@yossyxyossy.com
SUMMARY:HMR Collection LIVE
DESCRIPTION:2025年3月14日(金)\n「HMR Collection LIVE」\n出演：山口大貴 / H.M.C / YOSSYxYOSSY / 名迫僚太 / 金島準一郎\n会場：そよら上飯田\n愛知県名古屋市北区織部町1番1\n時間：❶13:00～ ❷15:30～\n料金：観覧無料\nhttps://www.aeon.jp/sc/soyora-kamiiida/\n主催/企画：株式会社Lit -Heart Music Records-
URL:https://yossyxyossy.com/event/hmr-collection-live/
ATTACH;FMTTYPE=image/jpeg:https://yossyxyossy.com/wp-content/uploads/2025/03/写真-2025-03-07-20-21-16-3-1.jpg
END:VEVENT
END:VCALENDAR