BEGIN:VCALENDAR
VERSION:2.0
PRODID:-//YOSSYxYOSSY OFFICIAL SITE - ECPv6.2.4//NONSGML v1.0//EN
CALSCALE:GREGORIAN
METHOD:PUBLISH
X-ORIGINAL-URL:https://yossyxyossy.com
X-WR-CALDESC:YOSSYxYOSSY OFFICIAL SITE のイベント
REFRESH-INTERVAL;VALUE=DURATION:PT1H
X-Robots-Tag:noindex
X-PUBLISHED-TTL:PT1H
BEGIN:VTIMEZONE
TZID:Asia/Tokyo
BEGIN:STANDARD
TZOFFSETFROM:+0900
TZOFFSETTO:+0900
TZNAME:JST
DTSTART:20240101T000000
END:STANDARD
END:VTIMEZONE
BEGIN:VEVENT
DTSTART;VALUE=DATE:20241229
DTEND;VALUE=DATE:20241230
DTSTAMP:20260423T165019
CREATED:20240925T062129Z
LAST-MODIFIED:20240925T062129Z
UID:1126-1735430400-1735516799@yossyxyossy.com
SUMMARY:Step by Step
DESCRIPTION:2024.12.29(日)\n名迫僚太クアトロ応援企画\n「Step by Step」\n出演者:Uken/うたまろ/大橋タカシ/SPAX/TOMOKI/名迫僚太/H.M.C/松中啓憲/山口大貴/YOSSY×YOSSY\nOPEN/START 11:30/12:00\nADV/DOOR ¥3500/¥4000(1drink別)\n会場：SPADE BOX\n住所：名古屋市中区新栄2-1-9雲竜フレックスビル西館B1F \nWEB一括予約🎫\nhttps://tiget.net/events/338551
URL:https://yossyxyossy.com/event/step-by-step/
LOCATION:SPADE BOX\, 名古屋市中区新栄2-1-9雲竜フレックスビル西館B1F
ATTACH;FMTTYPE=image/jpeg:https://yossyxyossy.com/wp-content/uploads/2024/09/写真-2024-09-25-15-20-33.jpg
END:VEVENT
END:VCALENDAR