BEGIN:VCALENDAR
VERSION:2.0
PRODID:-//YOSSYxYOSSY OFFICIAL SITE - ECPv6.2.4//NONSGML v1.0//EN
CALSCALE:GREGORIAN
METHOD:PUBLISH
X-ORIGINAL-URL:https://yossyxyossy.com
X-WR-CALDESC:YOSSYxYOSSY OFFICIAL SITE のイベント
REFRESH-INTERVAL;VALUE=DURATION:PT1H
X-Robots-Tag:noindex
X-PUBLISHED-TTL:PT1H
BEGIN:VTIMEZONE
TZID:Asia/Tokyo
BEGIN:STANDARD
TZOFFSETFROM:+0900
TZOFFSETTO:+0900
TZNAME:JST
DTSTART:20240101T000000
END:STANDARD
END:VTIMEZONE
BEGIN:VEVENT
DTSTART;VALUE=DATE:20241207
DTEND;VALUE=DATE:20241208
DTSTAMP:20260423T165218
CREATED:20240804T174527Z
LAST-MODIFIED:20240804T174527Z
UID:1066-1733529600-1733615999@yossyxyossy.com
SUMMARY:suguru birthday 4man live〜昼公演〜
DESCRIPTION:2024年12月7日(土) \n【タイトル】 \nsuguru birthday 4man live〜昼公演〜 \n【時間】 \nOPEN12:30 / START13:00 \n【料金】 \n前売¥3\,500/当日¥4\,000(ドリンク代別) \n【出演】H.M.C/片山遼/YOSSY×YOSSY/uuuuuuuU \n【会場】 \n西荻BETTY ROOM \n東京都杉並区西荻北３丁目１６−４ \n【入場順】 \n1. メール予約(番号並列順) \n2.当日 \n【予約】\nhttps://tiget.net/events/334704
URL:https://yossyxyossy.com/event/suguru-birthday-4man-live%e3%80%9c%e6%98%bc%e5%85%ac%e6%bc%94%e3%80%9c/
ATTACH;FMTTYPE=image/jpeg:https://yossyxyossy.com/wp-content/uploads/2024/08/写真-2024-08-05-2-14-39-5.jpg
END:VEVENT
BEGIN:VEVENT
DTSTART;VALUE=DATE:20241207
DTEND;VALUE=DATE:20241208
DTSTAMP:20260423T165218
CREATED:20240804T174628Z
LAST-MODIFIED:20240804T174628Z
UID:1070-1733529600-1733615999@yossyxyossy.com
SUMMARY:suguru birthday 4man live〜夜公演〜
DESCRIPTION:2024年12月7日(土) \n【タイトル】 \nsuguru birthday 4man live〜夜公演〜 \n【時間】 \nOPEN18:00 / START 18:30 \n【料金】 \n前売¥3\,500/当日¥4\,000(ドリンク代別) \n【出演】H.M.C/片山遼/YOSSY×YOSSY/uuuuuuuU \n【会場】 \n西荻BETTY ROOM \n東京都杉並区西荻北３丁目１６−４ \n【入場順】 \n1. メール予約(番号並列順) \n2.当日 \n【予約】 \nhttps://tiget.net/events/334705
URL:https://yossyxyossy.com/event/suguru-birthday-4man-live%e3%80%9c%e5%a4%9c%e5%85%ac%e6%bc%94%e3%80%9c/
ATTACH;FMTTYPE=image/jpeg:https://yossyxyossy.com/wp-content/uploads/2024/08/写真-2024-08-05-2-14-39-3.jpg
END:VEVENT
END:VCALENDAR