BEGIN:VCALENDAR
VERSION:2.0
PRODID:-//YOSSYxYOSSY OFFICIAL SITE - ECPv6.2.4//NONSGML v1.0//EN
CALSCALE:GREGORIAN
METHOD:PUBLISH
X-WR-CALNAME:YOSSYxYOSSY OFFICIAL SITE
X-ORIGINAL-URL:https://yossyxyossy.com
X-WR-CALDESC:YOSSYxYOSSY OFFICIAL SITE のイベント
REFRESH-INTERVAL;VALUE=DURATION:PT1H
X-Robots-Tag:noindex
X-PUBLISHED-TTL:PT1H
BEGIN:VTIMEZONE
TZID:Asia/Tokyo
BEGIN:STANDARD
TZOFFSETFROM:+0900
TZOFFSETTO:+0900
TZNAME:JST
DTSTART:20240101T000000
END:STANDARD
END:VTIMEZONE
BEGIN:VEVENT
DTSTART;VALUE=DATE:20241201
DTEND;VALUE=DATE:20241202
DTSTAMP:20260423T164726
CREATED:20240925T061620Z
LAST-MODIFIED:20240925T061620Z
UID:1122-1733011200-1733097599@yossyxyossy.com
SUMMARY:長岡 音むすびフェス!!2024
DESCRIPTION:「長岡 音むすびフェス!!2024」 \n■開催日時\n2024年12月1日(日)\n10時開場/11時スタート \n■会場\nアオーレ長岡 アリーナ/市民交流ホールA\n(新潟県長岡市大手通1丁目4番地10)\n※JR長岡駅より直結の会場です。 \n■出演(五十音順)\n◎Music\nうたまろ/N.U./門松良祐/GRAND COLOR STONE/ケミカル⇄リアクション/\n琴音/さとちん/サナダヒデト(BAND)/style-3!/そよかぜ 大根雄馬/\nナイトスターリリー(阿部祐也＆片山遼)/ハシグチカナデリヤ/ひなた/\n二人目のジャイアン/遊吟/YOSSY×YOSSY/Rafvery \n◎Dance\nGENEX Dance Studio\nLuvDanceMovement \nアリーナ司会：中静祐介（ヤングキャベツ）、本間日陽\nホールA司会：田中さき \n■出店\nキッチンカー、飲食店出店多数！\nうち、1店舗は新潟県長岡市出身のタレント「西山 茉希」さんによる西山食堂が出店決定！ \n※入場無料！\n(特典付きプレミア席10月31日まで申込受付中！詳細はひなたオフィシャルサイトをご確認ください！）
URL:https://yossyxyossy.com/event/%e9%95%b7%e5%b2%a1-%e9%9f%b3%e3%82%80%e3%81%99%e3%81%b3%e3%83%95%e3%82%a7%e3%82%b92024/
LOCATION:アオーレ長岡\, 新潟県長岡市大手通1丁目4番地10
ATTACH;FMTTYPE=image/jpeg:https://yossyxyossy.com/wp-content/uploads/2024/09/写真-2024-09-25-14-53-06.jpg
END:VEVENT
END:VCALENDAR