BEGIN:VCALENDAR
VERSION:2.0
PRODID:-//YOSSYxYOSSY OFFICIAL SITE - ECPv6.2.4//NONSGML v1.0//EN
CALSCALE:GREGORIAN
METHOD:PUBLISH
X-WR-CALNAME:YOSSYxYOSSY OFFICIAL SITE
X-ORIGINAL-URL:https://yossyxyossy.com
X-WR-CALDESC:YOSSYxYOSSY OFFICIAL SITE のイベント
REFRESH-INTERVAL;VALUE=DURATION:PT1H
X-Robots-Tag:noindex
X-PUBLISHED-TTL:PT1H
BEGIN:VTIMEZONE
TZID:Asia/Tokyo
BEGIN:STANDARD
TZOFFSETFROM:+0900
TZOFFSETTO:+0900
TZNAME:JST
DTSTART:20240101T000000
END:STANDARD
END:VTIMEZONE
BEGIN:VEVENT
DTSTART;VALUE=DATE:20241124
DTEND;VALUE=DATE:20241125
DTSTAMP:20260423T182046
CREATED:20240925T055944Z
LAST-MODIFIED:20240925T060023Z
UID:1101-1732406400-1732492799@yossyxyossy.com
SUMMARY:Y-40
DESCRIPTION:2024年11月24日(日)昼\nアコースティックバンドワンマン\n「Y-40」 \n京橋Arc \n12:00開場\n12:30開演 \n¥4000(別途1D代) \n予約はこちら\nhttps://tiget.net/events/348344
URL:https://yossyxyossy.com/event/y-40/
LOCATION:LIVE HOUSE Arc\, 大阪府大阪市都島区東野田町１丁目１−４ IBCビル 1F
ATTACH;FMTTYPE=image/jpeg:https://yossyxyossy.com/wp-content/uploads/2024/09/写真-2024-09-19-21-30-29.jpg
END:VEVENT
BEGIN:VEVENT
DTSTART;VALUE=DATE:20241124
DTEND;VALUE=DATE:20241125
DTSTAMP:20260423T182046
CREATED:20240925T060155Z
LAST-MODIFIED:20240925T060155Z
UID:1105-1732406400-1732492799@yossyxyossy.com
SUMMARY:誕生日の吉田がタロドンに頼んだ
DESCRIPTION:2024年11月24日(日)夜\n3マンライブ\n「誕生日の吉田がタロドンに頼んだ」\n京橋Arc \nTAROO / 山本義則 /YOSSYxYOSSY \n18:30開場\n19:00開演 \n¥3500(別途1D代) \n予約はこちら\nhttps://tiget.net/events/348324
URL:https://yossyxyossy.com/event/%e8%aa%95%e7%94%9f%e6%97%a5%e3%81%ae%e5%90%89%e7%94%b0%e3%81%8c%e3%82%bf%e3%83%ad%e3%83%89%e3%83%b3%e3%81%ab%e9%a0%bc%e3%82%93%e3%81%a0/
LOCATION:LIVE HOUSE Arc\, 大阪府大阪市都島区東野田町１丁目１−４ IBCビル 1F
ATTACH;FMTTYPE=image/jpeg:https://yossyxyossy.com/wp-content/uploads/2024/09/写真-2024-09-19-19-59-18.jpg
END:VEVENT
END:VCALENDAR