BEGIN:VCALENDAR
VERSION:2.0
PRODID:-//YOSSYxYOSSY OFFICIAL SITE - ECPv6.2.4//NONSGML v1.0//EN
CALSCALE:GREGORIAN
METHOD:PUBLISH
X-ORIGINAL-URL:https://yossyxyossy.com
X-WR-CALDESC:YOSSYxYOSSY OFFICIAL SITE のイベント
REFRESH-INTERVAL;VALUE=DURATION:PT1H
X-Robots-Tag:noindex
X-PUBLISHED-TTL:PT1H
BEGIN:VTIMEZONE
TZID:Asia/Tokyo
BEGIN:STANDARD
TZOFFSETFROM:+0900
TZOFFSETTO:+0900
TZNAME:JST
DTSTART:20240101T000000
END:STANDARD
END:VTIMEZONE
BEGIN:VEVENT
DTSTART;VALUE=DATE:20241110
DTEND;VALUE=DATE:20241111
DTSTAMP:20260423T182648
CREATED:20240925T061319Z
LAST-MODIFIED:20240925T061345Z
UID:1117-1731196800-1731283199@yossyxyossy.com
SUMMARY:ソロ始めて13周年記念LIVE〜ジャパカバでも歌います〜 　夜
DESCRIPTION:■2024年11月10日(日)\n【タイトル】 ソロ始めて13周年記念LIVE〜ジャパカバでも歌います〜\n【時間】 OPEN 17:30/START 18:00\n【料金】 前売¥4\,000/当日¥4\,500\n【出演】 片山遼/H.M.C/YOSSY×YOSSY\n【会場】 新横浜strage 〒222-0033\n神奈川県横浜市港北区新横浜３丁目１０ 横浜アリーナ1階\n【入場順】 1. メール予約(各アーティスト並列番号順) 2.当日 \n【予約】\nhttps://tiget.net/events/343597
URL:https://yossyxyossy.com/event/%e3%82%bd%e3%83%ad%e5%a7%8b%e3%82%81%e3%81%a613%e5%91%a8%e5%b9%b4%e8%a8%98%e5%bf%b5live%e3%80%9c%e3%82%b8%e3%83%a3%e3%83%91%e3%82%ab%e3%83%90%e3%81%a7%e3%82%82%e6%ad%8c%e3%81%84%e3%81%be%e3%81%99/
LOCATION:新横浜strage\, 神奈川県横浜市港北区新横浜３丁目１０ 横浜アリーナ1階
ATTACH;FMTTYPE=image/jpeg:https://yossyxyossy.com/wp-content/uploads/2024/09/写真-2024-09-25-15-07-25-1.jpg
END:VEVENT
BEGIN:VEVENT
DTSTART;VALUE=DATE:20241110
DTEND;VALUE=DATE:20241111
DTSTAMP:20260423T182648
CREATED:20240925T061205Z
LAST-MODIFIED:20240925T061205Z
UID:1112-1731196800-1731283199@yossyxyossy.com
SUMMARY:ソロ始めて13周年記念LIVE〜3マンライブ〜　昼
DESCRIPTION:■2024年11月10日(日)\n【タイトル】ソロ始めて13周年記念LIVE〜3マンライブ〜\n【時間】OPEN 12:00 /START 13:00\n【料金】前売¥4\,000/当日¥4\,500\n【出演】片山遼/H.M.C/YOSSY×YOSSY\n【会場】新横浜strage〒222-0033\n神奈川県横浜市港北区新横浜３丁目１０ 横浜アリーナ1階\n【入場順】1. メール予約(各アーティスト並列番号順)2.当日 \n【予約】\nhttps://tiget.net/events/343593
URL:https://yossyxyossy.com/event/%e3%82%bd%e3%83%ad%e5%a7%8b%e3%82%81%e3%81%a613%e5%91%a8%e5%b9%b4%e8%a8%98%e5%bf%b5live%e3%80%9c3%e3%83%9e%e3%83%b3%e3%83%a9%e3%82%a4%e3%83%96%e3%80%9c%e3%80%80%e6%98%bc/
LOCATION:新横浜strage\, 神奈川県横浜市港北区新横浜３丁目１０ 横浜アリーナ1階
ATTACH;FMTTYPE=image/jpeg:https://yossyxyossy.com/wp-content/uploads/2024/09/写真-2024-09-25-15-07-25.jpg
END:VEVENT
END:VCALENDAR