BEGIN:VCALENDAR
VERSION:2.0
PRODID:-//YOSSYxYOSSY OFFICIAL SITE - ECPv6.2.4//NONSGML v1.0//EN
CALSCALE:GREGORIAN
METHOD:PUBLISH
X-ORIGINAL-URL:https://yossyxyossy.com
X-WR-CALDESC:YOSSYxYOSSY OFFICIAL SITE のイベント
REFRESH-INTERVAL;VALUE=DURATION:PT1H
X-Robots-Tag:noindex
X-PUBLISHED-TTL:PT1H
BEGIN:VTIMEZONE
TZID:Asia/Tokyo
BEGIN:STANDARD
TZOFFSETFROM:+0900
TZOFFSETTO:+0900
TZNAME:JST
DTSTART:20240101T000000
END:STANDARD
END:VTIMEZONE
BEGIN:VEVENT
DTSTART;VALUE=DATE:20241006
DTEND;VALUE=DATE:20241007
DTSTAMP:20260423T195606
CREATED:20240804T173753Z
LAST-MODIFIED:20240925T054845Z
UID:1060-1728172800-1728259199@yossyxyossy.com
SUMMARY:芝音楽祭
DESCRIPTION:10/6(日)洋光台北団地芝生広場「芝音楽祭」\n会場:神奈川県横浜市磯子区洋光台2-1-35 \nSTART12:00\n※観覧無料、雨天中止 \n出演:オオモリヨウヘイ/森下邦太/須澤紀信/COCOA/尼丁隆吉/草野俊之介/齊藤真生/慈光/\nYOSSYxYOSSY/川原光貴/FASE/MOGURA \n12:00-12:25 森下邦太\n12:25-12:50 尼丁隆吉\n12:50-13:15 草野俊之介\n13:15-13:40 川原光貴\n13:40-14:05 MOGURA\n14:05-14:30 COCOA\n14:30-14:55 須澤紀信\n14:55-15:20 慈光\n15:20-15:45 齊藤真生\n15:45-16:10 FASE\n16:10-16:35 YOSSYxYOSSY\n16:35-17:00 オオモリヨウヘイ
URL:https://yossyxyossy.com/event/%e6%a8%aa%e6%b5%9c/
LOCATION:洋光台北団地芝生広場\, 神奈川県横浜市磯子区洋光台2-1-35
ATTACH;FMTTYPE=image/jpeg:https://yossyxyossy.com/wp-content/uploads/2024/08/S__26935310.jpg
END:VEVENT
END:VCALENDAR