BEGIN:VCALENDAR
VERSION:2.0
PRODID:-//YOSSYxYOSSY OFFICIAL SITE - ECPv6.2.4//NONSGML v1.0//EN
CALSCALE:GREGORIAN
METHOD:PUBLISH
X-ORIGINAL-URL:https://yossyxyossy.com
X-WR-CALDESC:YOSSYxYOSSY OFFICIAL SITE のイベント
REFRESH-INTERVAL;VALUE=DURATION:PT1H
X-Robots-Tag:noindex
X-PUBLISHED-TTL:PT1H
BEGIN:VTIMEZONE
TZID:Asia/Tokyo
BEGIN:STANDARD
TZOFFSETFROM:+0900
TZOFFSETTO:+0900
TZNAME:JST
DTSTART:20240101T000000
END:STANDARD
END:VTIMEZONE
BEGIN:VEVENT
DTSTART;VALUE=DATE:20240916
DTEND;VALUE=DATE:20240917
DTSTAMP:20260423T213916
CREATED:20240804T173717Z
LAST-MODIFIED:20240804T174656Z
UID:1057-1726444800-1726531199@yossyxyossy.com
SUMMARY:ひなたのじょんのびタイムvol.3
DESCRIPTION:「ひなたのじょんのびタイムvol.3」 \n毎週金曜日20時放送のひなたのラジオ「ひなたのじょんのび喫茶」公開収録！！\n各出演者とトークたっぷり！もちろんライブもあり！ \n後日、ひなたのレギュラーラジオ番組でのオンエアもお楽しみください♪ \n■日時\n2024年9月16日(月・祝)\n開場11:30/開演12:00\n※16:45終演予定 \n■会場\nホテルサンローラ 1階\n（新潟県長岡市川口中山2515-4） \n※車でお越しの方は駐車場は無料となっております。 \n★★★バス案内★★★\nホテルサンローラ⇔越後川口駅往復送迎バス検討中です！\n※詳細決まり次第でお知らせします！ \n■出演(五十音順)\nうたまろ/立岡千晶/ひなた/MASA【二人目のジャイアン】/遊吟/YOSSY×YOSSY \n■チケット代\n前売3\,500円/当日4\,000円\n(ドリンク代別途) \n■入場順\n①メール予約番号順\n②当日券 (整列順) \n■申し込み方法\n全出演者共通メール予約での先着順受付となります。各会場の規定人数に達し次第、受付終了となります。\n9/15希望の方は別途メールでお申込みください。 \n申し込み制限枚数はありません。 \n＞＞＞メール予約\nhinata.ticket@gmail.com\n件名「9/16　ひなたのじょんのびタイム」 \n本文「1.お名前（フルネームカタカナ）2.9/16×枚数　3.お目当てのアーティスト(1名につき1組)」 \nを明記の上、メールをお送りください。\nメール受付が無事完了しましたら、いただいたメールアドレス宛てで「申込完了メール」をお送りします。\n申し込み完了メール到着まで1週間ほどお時間をいただきますので、お待ちください。 \n■メール予約受付開始日\n2024年7月1日(月) 19時～先着順メール予約受付開始！ \n※注意事項※\n・料金は当日会場でのお支払いとなります。\n・必ず【お目当てのアーティスト】をお知らせください。\n2名で申込される場合で異なるアーティストがお目当ての場合にはそれぞれのアーティスト名をお知らせください。\n・予約完了メールが届かない事があるので、hinata.ticket@gmail.comからのメールを受信可能な設定にお願いします。\n・1週間以上経っても返信がない場合には、お申込みのメールが届いていない可能性があります。\n携帯電話の場合、ドメイン設定の確認、パソコンからの場合、迷惑メールフォルダなどご確認いただいたのち、\nお手数ではございますが、再度お申し込みください。
URL:https://yossyxyossy.com/event/%e3%81%b2%e3%81%aa%e3%81%9f%e3%81%ae%e3%81%98%e3%82%87%e3%82%93%e3%81%ae%e3%81%b3%e3%82%bf%e3%82%a4%e3%83%a0vol-3/
ATTACH;FMTTYPE=image/jpeg:https://yossyxyossy.com/wp-content/uploads/2024/08/写真-2024-08-05-2-35-45.jpg
END:VEVENT
END:VCALENDAR