BEGIN:VCALENDAR
VERSION:2.0
PRODID:-//YOSSYxYOSSY OFFICIAL SITE - ECPv6.2.4//NONSGML v1.0//EN
CALSCALE:GREGORIAN
METHOD:PUBLISH
X-WR-CALNAME:YOSSYxYOSSY OFFICIAL SITE
X-ORIGINAL-URL:https://yossyxyossy.com
X-WR-CALDESC:YOSSYxYOSSY OFFICIAL SITE のイベント
REFRESH-INTERVAL;VALUE=DURATION:PT1H
X-Robots-Tag:noindex
X-PUBLISHED-TTL:PT1H
BEGIN:VTIMEZONE
TZID:Asia/Tokyo
BEGIN:STANDARD
TZOFFSETFROM:+0900
TZOFFSETTO:+0900
TZNAME:JST
DTSTART:20240101T000000
END:STANDARD
END:VTIMEZONE
BEGIN:VEVENT
DTSTART;VALUE=DATE:20240901
DTEND;VALUE=DATE:20240902
DTSTAMP:20260423T213238
CREATED:20240804T173103Z
LAST-MODIFIED:20240804T174956Z
UID:1052-1725148800-1725235199@yossyxyossy.com
SUMMARY:リクエストで吉田Vol.1
DESCRIPTION:9月１日 \n名古屋LOCUS \nOPEN18:00\nSTART18:30 \n￥3500（別途１D代）
URL:https://yossyxyossy.com/event/%e3%83%aa%e3%82%af%e3%82%a8%e3%82%b9%e3%83%88%e3%81%a7%e5%90%89%e7%94%b0vol-1/
END:VEVENT
BEGIN:VEVENT
DTSTART;VALUE=DATE:20240901
DTEND;VALUE=DATE:20240902
DTSTAMP:20260423T213238
CREATED:20240804T173010Z
LAST-MODIFIED:20240804T173010Z
UID:1050-1725148800-1725235199@yossyxyossy.com
SUMMARY:名古屋で吉田Vol.5
DESCRIPTION:9月１日 \n名古屋LOCUS \nOPEN12:00\nSTART12:30 \n￥3500（別途１D代） \n 
URL:https://yossyxyossy.com/event/%e5%90%8d%e5%8f%a4%e5%b1%8b%e3%81%a7%e5%90%89%e7%94%b0vol-5/
END:VEVENT
END:VCALENDAR