BEGIN:VCALENDAR
VERSION:2.0
PRODID:-//YOSSYxYOSSY OFFICIAL SITE - ECPv6.2.4//NONSGML v1.0//EN
CALSCALE:GREGORIAN
METHOD:PUBLISH
X-ORIGINAL-URL:https://yossyxyossy.com
X-WR-CALDESC:YOSSYxYOSSY OFFICIAL SITE のイベント
REFRESH-INTERVAL;VALUE=DURATION:PT1H
X-Robots-Tag:noindex
X-PUBLISHED-TTL:PT1H
BEGIN:VTIMEZONE
TZID:Asia/Tokyo
BEGIN:STANDARD
TZOFFSETFROM:+0900
TZOFFSETTO:+0900
TZNAME:JST
DTSTART:20240101T000000
END:STANDARD
END:VTIMEZONE
BEGIN:VEVENT
DTSTART;VALUE=DATE:20240829
DTEND;VALUE=DATE:20240830
DTSTAMP:20260423T212338
CREATED:20240804T172034Z
LAST-MODIFIED:20240804T172034Z
UID:1044-1724889600-1724975999@yossyxyossy.com
SUMMARY:47のひな旅2　大宮駅ストリートライブに参加
DESCRIPTION:ひなたさんのHPから引用↓ \n「47のひな旅2」 \n47日都道府県を47で回る音楽の旅！！！ \n■日時\n2024年8月29日(木)\n19:00～ \n■場所\n大宮駅ストリートライブ \n■駆けつけてくれる予定の仲間\n片山遼/YOSSY×YOSSY \n＜旅を通した全体共通のお願い＞\n・旅はストリートライブだけではなくライブハウスや、ショッピングセンターで実施する場合もあります。\n駆けつけてくれる予定の仲間も急遽来れなくなる可能性もあります。 \n・ストリートライブ実施の場合、場所や時間は変動する可能性があります。なお、途中で止められる場合もありますので予めご了承ください。最新情報はひなたそれぞれのXにてご確認ください。 \n詳しくは\nhttps://hinata.tv/schedule/20240829/
URL:https://yossyxyossy.com/event/47%e3%81%ae%e3%81%b2%e3%81%aa%e6%97%852%e3%80%80%e5%a4%a7%e5%ae%ae%e9%a7%85%e3%82%b9%e3%83%88%e3%83%aa%e3%83%bc%e3%83%88%e3%83%a9%e3%82%a4%e3%83%96%e3%81%ab%e5%8f%82%e5%8a%a0/
END:VEVENT
END:VCALENDAR