BEGIN:VCALENDAR
VERSION:2.0
PRODID:-//YOSSYxYOSSY OFFICIAL SITE - ECPv6.2.4//NONSGML v1.0//EN
CALSCALE:GREGORIAN
METHOD:PUBLISH
X-ORIGINAL-URL:https://yossyxyossy.com
X-WR-CALDESC:YOSSYxYOSSY OFFICIAL SITE のイベント
REFRESH-INTERVAL;VALUE=DURATION:PT1H
X-Robots-Tag:noindex
X-PUBLISHED-TTL:PT1H
BEGIN:VTIMEZONE
TZID:Asia/Tokyo
BEGIN:STANDARD
TZOFFSETFROM:+0900
TZOFFSETTO:+0900
TZNAME:JST
DTSTART:20240101T000000
END:STANDARD
END:VTIMEZONE
BEGIN:VEVENT
DTSTART;VALUE=DATE:20240817
DTEND;VALUE=DATE:20240818
DTSTAMP:20260423T232820
CREATED:20240610T133004Z
LAST-MODIFIED:20240610T133213Z
UID:1002-1723852800-1723939199@yossyxyossy.com
SUMMARY:アフタヌーンティー3マンライブ
DESCRIPTION:■2024年8月17日(土)\n【タイトル】\nアフタヌーンティー3マンライブ\n【時間】\nOPEN15:30 / START 16:00\n【料金】\n前売¥4\,000/当日¥4\,500(デザート３種盛り合わせ・ドリンク込)\n【出演】\nH.M.C/Shinji/YOSSY×YOSSY\n【会場】café de campagne（カフェ・ド・カンパーニュ）\n兵庫県明石市二見町西二見1268-1 ラフェスタ二見1F \n■ご予約受付中！！\ntiget.net/events/319787 \n【入場順】\n1. メール予約(各アーティスト並列番号順)\n2.当日
URL:https://yossyxyossy.com/event/%e3%82%a2%e3%83%95%e3%82%bf%e3%83%8c%e3%83%bc%e3%83%b3%e3%83%86%e3%82%a3%e3%83%bc3%e3%83%9e%e3%83%b3%e3%83%a9%e3%82%a4%e3%83%96/
LOCATION:café de campagne\, 兵庫県明石市二見町西二見1268-1 ラフェスタ二見1F
ATTACH;FMTTYPE=image/jpeg:https://yossyxyossy.com/wp-content/uploads/2024/06/43205215-318e-401c-a827-17e2354371a3.jpg
END:VEVENT
END:VCALENDAR