BEGIN:VCALENDAR
VERSION:2.0
PRODID:-//YOSSYxYOSSY OFFICIAL SITE - ECPv6.2.4//NONSGML v1.0//EN
CALSCALE:GREGORIAN
METHOD:PUBLISH
X-WR-CALNAME:YOSSYxYOSSY OFFICIAL SITE
X-ORIGINAL-URL:https://yossyxyossy.com
X-WR-CALDESC:YOSSYxYOSSY OFFICIAL SITE のイベント
REFRESH-INTERVAL;VALUE=DURATION:PT1H
X-Robots-Tag:noindex
X-PUBLISHED-TTL:PT1H
BEGIN:VTIMEZONE
TZID:Asia/Tokyo
BEGIN:STANDARD
TZOFFSETFROM:+0900
TZOFFSETTO:+0900
TZNAME:JST
DTSTART:20240101T000000
END:STANDARD
END:VTIMEZONE
BEGIN:VEVENT
DTSTART;VALUE=DATE:20240708
DTEND;VALUE=DATE:20240709
DTSTAMP:20260424T010951
CREATED:20240610T132858Z
LAST-MODIFIED:20240622T131933Z
UID:1000-1720396800-1720483199@yossyxyossy.com
SUMMARY:Bi-color Fluorite
DESCRIPTION:2024/7/8 (月) at LiveHouse Arc \n「 Bi-color Fluorite 」 \n[出演]\nHigh-G\nmarco\ntenoto\nYOSSY×YOSSY\nArclight \nOPEN 18：00 / START 18：30 \n■ご予約受付中！！\nhttps://tiget.net/events/326195\n＊整列順でのご入場となります\n(OPENの10分前~の整列でお願いします) \n前売 3\,000円 / 当日 3\,500円\n(ドリンク代600円別)
URL:https://yossyxyossy.com/event/bi-color-fluorite/
LOCATION:LIVE HOUSE Arc\, 大阪府大阪市都島区東野田町１丁目１−４ IBCビル 1F
ATTACH;FMTTYPE=image/jpeg:https://yossyxyossy.com/wp-content/uploads/2024/06/写真-2024-06-22-22-18-57.jpg
END:VEVENT
END:VCALENDAR