BEGIN:VCALENDAR
VERSION:2.0
PRODID:-//YOSSYxYOSSY OFFICIAL SITE - ECPv6.2.4//NONSGML v1.0//EN
CALSCALE:GREGORIAN
METHOD:PUBLISH
X-WR-CALNAME:YOSSYxYOSSY OFFICIAL SITE
X-ORIGINAL-URL:https://yossyxyossy.com
X-WR-CALDESC:YOSSYxYOSSY OFFICIAL SITE のイベント
REFRESH-INTERVAL;VALUE=DURATION:PT1H
X-Robots-Tag:noindex
X-PUBLISHED-TTL:PT1H
BEGIN:VTIMEZONE
TZID:Asia/Tokyo
BEGIN:STANDARD
TZOFFSETFROM:+0900
TZOFFSETTO:+0900
TZNAME:JST
DTSTART:20240101T000000
END:STANDARD
END:VTIMEZONE
BEGIN:VEVENT
DTSTART;VALUE=DATE:20240629
DTEND;VALUE=DATE:20240630
DTSTAMP:20260424T024201
CREATED:20240610T131530Z
LAST-MODIFIED:20240622T132611Z
UID:987-1719619200-1719705599@yossyxyossy.com
SUMMARY:YOSSYとTAROO vol.3－東京編－
DESCRIPTION:6/29(土)\n「YOSSYとTAROO vol.3－東京編－」\n会場：Livehouse LANTERN https://sites.google.com/view/livehouse-lantern/home… \nYOSSY×YOSSY TAROO from キャラメルパッキング\n開場18:30開演19:00\n¥3500(別途1D代)\n整理番号順入場 \n4月3日21時〜予約開始 https://tiget.net/events/311648
URL:https://yossyxyossy.com/event/yossy%e3%81%a8taroo-vol-3%ef%bc%8d%e6%9d%b1%e4%ba%ac%e7%b7%a8%ef%bc%8d/
LOCATION:Livehouse LANTERN
ATTACH;FMTTYPE=image/jpeg:https://yossyxyossy.com/wp-content/uploads/2024/06/写真-2024-06-22-22-25-38.jpg
END:VEVENT
END:VCALENDAR