BEGIN:VCALENDAR
VERSION:2.0
PRODID:-//YOSSYxYOSSY OFFICIAL SITE - ECPv6.2.4//NONSGML v1.0//EN
CALSCALE:GREGORIAN
METHOD:PUBLISH
X-WR-CALNAME:YOSSYxYOSSY OFFICIAL SITE
X-ORIGINAL-URL:https://yossyxyossy.com
X-WR-CALDESC:YOSSYxYOSSY OFFICIAL SITE のイベント
REFRESH-INTERVAL;VALUE=DURATION:PT1H
X-Robots-Tag:noindex
X-PUBLISHED-TTL:PT1H
BEGIN:VTIMEZONE
TZID:Asia/Tokyo
BEGIN:STANDARD
TZOFFSETFROM:+0900
TZOFFSETTO:+0900
TZNAME:JST
DTSTART:20240101T000000
END:STANDARD
END:VTIMEZONE
BEGIN:VEVENT
DTSTART;VALUE=DATE:20240628
DTEND;VALUE=DATE:20240629
DTSTAMP:20260424T024256
CREATED:20240610T130941Z
LAST-MODIFIED:20240610T130941Z
UID:978-1719532800-1719619199@yossyxyossy.com
SUMMARY:YOSSYxYOSSY×伊東洋平 2マンライブ
DESCRIPTION:6月28日(金)\n「YOSSYxYOSSY×伊東洋平 2マンライブ \n会場　Music Bar BOB \n開場18:30 開演19:00 \n伊東洋平/YOSSYxYOSSY \n前売3\,500円 当日4\,000円(1D代別) \n予約受付中 https://tiget.net/events/323504 当日整列順入場
URL:https://yossyxyossy.com/event/yossyxyossyx%e4%bc%8a%e6%9d%b1%e6%b4%8b%e5%b9%b3-2%e3%83%9e%e3%83%b3%e3%83%a9%e3%82%a4%e3%83%96/
LOCATION:Music Bar BOB
ATTACH;FMTTYPE=image/jpeg:https://yossyxyossy.com/wp-content/uploads/2024/06/GOqlaaGakAA6vx6.jpg
END:VEVENT
END:VCALENDAR