BEGIN:VCALENDAR
VERSION:2.0
PRODID:-//YOSSYxYOSSY OFFICIAL SITE - ECPv6.2.4//NONSGML v1.0//EN
CALSCALE:GREGORIAN
METHOD:PUBLISH
X-ORIGINAL-URL:https://yossyxyossy.com
X-WR-CALDESC:YOSSYxYOSSY OFFICIAL SITE のイベント
REFRESH-INTERVAL;VALUE=DURATION:PT1H
X-Robots-Tag:noindex
X-PUBLISHED-TTL:PT1H
BEGIN:VTIMEZONE
TZID:Asia/Tokyo
BEGIN:STANDARD
TZOFFSETFROM:+0900
TZOFFSETTO:+0900
TZNAME:JST
DTSTART:20240101T000000
END:STANDARD
END:VTIMEZONE
BEGIN:VEVENT
DTSTART;VALUE=DATE:20240617
DTEND;VALUE=DATE:20240618
DTSTAMP:20260424T024447
CREATED:20240610T130508Z
LAST-MODIFIED:20240610T130600Z
UID:973-1718582400-1718668799@yossyxyossy.com
SUMMARY:ハシグチカナデリヤpresents Arc 8th anniversary Life is tour & Arc is forever
DESCRIPTION:6.17(月)\nLiveHouse Arc\nハシグチカナデリヤpresents Arc 8th anniversary Life is tour & Arc is forever \nOP18:30 ST19:00 前3\,000円(1D代別) \nハシグチカナデリヤ\nYOSSYxYOSSY\nTAROO\nナンカノユメ \n予約受付中 http://tiget.net/events/319791\n※整列順入場(OPEN10分前より整列OK)
URL:https://yossyxyossy.com/event/%e3%83%8f%e3%82%b7%e3%82%b0%e3%83%81%e3%82%ab%e3%83%8a%e3%83%87%e3%83%aa%e3%83%a4presents-arc-8th-anniversary-life-is-tour-arc-is-forever/
LOCATION:LIVE HOUSE Arc\, 大阪府大阪市都島区東野田町１丁目１−４ IBCビル 1F
ATTACH;FMTTYPE=image/jpeg:https://yossyxyossy.com/wp-content/uploads/2024/06/GNMax6sbgAAaOVK.jpg
END:VEVENT
END:VCALENDAR