BEGIN:VCALENDAR
VERSION:2.0
PRODID:-//YOSSYxYOSSY OFFICIAL SITE - ECPv6.2.4//NONSGML v1.0//EN
CALSCALE:GREGORIAN
METHOD:PUBLISH
X-WR-CALNAME:YOSSYxYOSSY OFFICIAL SITE
X-ORIGINAL-URL:https://yossyxyossy.com
X-WR-CALDESC:YOSSYxYOSSY OFFICIAL SITE のイベント
REFRESH-INTERVAL;VALUE=DURATION:PT1H
X-Robots-Tag:noindex
X-PUBLISHED-TTL:PT1H
BEGIN:VTIMEZONE
TZID:Asia/Tokyo
BEGIN:STANDARD
TZOFFSETFROM:+0900
TZOFFSETTO:+0900
TZNAME:JST
DTSTART:20240101T000000
END:STANDARD
END:VTIMEZONE
BEGIN:VEVENT
DTSTART;VALUE=DATE:20240616
DTEND;VALUE=DATE:20240617
DTSTAMP:20260424T024256
CREATED:20240610T124339Z
LAST-MODIFIED:20240610T124513Z
UID:967-1718496000-1718582399@yossyxyossy.com
SUMMARY:（昼）Voice from CASHBOX at 御影クラッセ (フリーライブ）
DESCRIPTION:[日程] 2024年6月16日(土) \nVoice from CASHBOX at 御影クラッセ \n御影クラッセ 1階広場 [住所]兵庫県神戸市東灘区御影中町3-2-1 \n[時間/出演者] \n12:00 YOSSY×YOSSY\n12:35 ふらっと♭\n13:10 YES!佐藤栞\n13:45 瀧本りおな\n14:20 山合圭吾 \n※本番25分\n※雨天時決行(荒天時中止もありうる・当日判断) \n\n\n\n\n\n\n\n\n\n\n\n\n\n\n\n\n\n返信転送 \n\n\nリアクションを追加
URL:https://yossyxyossy.com/event/voice-from-cashbox-at-%e5%be%a1%e5%bd%b1%e3%82%af%e3%83%a9%e3%83%83%e3%82%bb-%e3%83%95%e3%83%aa%e3%83%bc%e3%83%a9%e3%82%a4%e3%83%96%ef%bc%89/
LOCATION:御影クラッセ\, 兵庫県神戸市東灘区御影中町3-2-1
END:VEVENT
BEGIN:VEVENT
DTSTART;VALUE=DATE:20240616
DTEND;VALUE=DATE:20240617
DTSTAMP:20260424T024256
CREATED:20240610T120351Z
LAST-MODIFIED:20240610T124528Z
UID:960-1718496000-1718582399@yossyxyossy.com
SUMMARY:（夜）Voice fromCASHBOX vol.188
DESCRIPTION:[日程]2024年6月16日(日)\n[タイトル]「Voice fromCASHBOX vol.188」 ＊有観客&配信ライブ\n[会場]CASHBOX\n[出演]TAROO from キャラメルパッキング/ふらっと♭/山合圭吾/YOSSY×YOSSY/大野瞬\n[開場/開演] 17:30/18:00（配信18:00～）\n[料金]有観客 3\,500円(1Drink別途600円・自由席)/配信 3\,000円(システム手数料160円）\n[席]自由席\n[予約受付]https://tiget.net/events/319125\n[配信購入ページ]\nhttps://twitcasting.tv/cashbox_kobe/shopcart/307364\n＊必ず御指名のアーティスト名を記入してください\n[入場方法]当日並んだ順の入場になります！\n＊当日開場10分前にスタッフがお呼びした時間より並んだ方順の入場となります！\n(スタッフがお呼びするまでは近隣のご迷惑になりますのでお並び頂けませんのでご注意ください。)
URL:https://yossyxyossy.com/event/voice-fromcashbox-vol-188/
LOCATION:CASH BOX\, 兵庫県\, 神戸市中央区二宮町４丁目２１−９ オレンジハウス\, 651-0093\, 日本
ATTACH;FMTTYPE=image/jpeg:https://yossyxyossy.com/wp-content/uploads/2024/06/写真-2024-06-10-21-35-24.jpg
END:VEVENT
END:VCALENDAR