BEGIN:VCALENDAR
VERSION:2.0
PRODID:-//YOSSYxYOSSY OFFICIAL SITE - ECPv6.2.4//NONSGML v1.0//EN
CALSCALE:GREGORIAN
METHOD:PUBLISH
X-WR-CALNAME:YOSSYxYOSSY OFFICIAL SITE
X-ORIGINAL-URL:https://yossyxyossy.com
X-WR-CALDESC:YOSSYxYOSSY OFFICIAL SITE のイベント
REFRESH-INTERVAL;VALUE=DURATION:PT1H
X-Robots-Tag:noindex
X-PUBLISHED-TTL:PT1H
BEGIN:VTIMEZONE
TZID:Asia/Tokyo
BEGIN:STANDARD
TZOFFSETFROM:+0900
TZOFFSETTO:+0900
TZNAME:JST
DTSTART:20230101T000000
END:STANDARD
END:VTIMEZONE
BEGIN:VEVENT
DTSTART;VALUE=DATE:20231208
DTEND;VALUE=DATE:20231209
DTSTAMP:20260424T123104
CREATED:20231026T154014Z
LAST-MODIFIED:20231026T154133Z
UID:951-1701993600-1702079999@yossyxyossy.com
SUMMARY:五人囃子-2023-
DESCRIPTION:12月8日(金) 有観客＆配信ライブ\n「五人囃子-2023-」\n出演:TOMOKI/大橋タカシ/名迫僚太/H.M.C/YOSSY×YOSSY\nOPEN/START 18:30/19:00\nADV/DOOR ¥4000/¥4500\n配信 ¥4000\n会場：神戸煉瓦倉庫K-wave\n住所：兵庫県神戸市中央区東川崎町１丁目５−５ 煉瓦倉庫レストラン 南棟 \n予約はこちら\nhttps://tiget.net/events/269029
URL:https://yossyxyossy.com/event/%e4%ba%94%e4%ba%ba%e5%9b%83%e5%ad%90-2023/
LOCATION:神戸煉瓦倉庫K-wave\, 兵庫県神戸市中央区東川崎町１丁目５−５ 煉瓦倉庫レストラン 南棟
ATTACH;FMTTYPE=image/jpeg:https://yossyxyossy.com/wp-content/uploads/2023/10/写真-2023-09-03-20-36-29.jpg
END:VEVENT
END:VCALENDAR