BEGIN:VCALENDAR
VERSION:2.0
PRODID:-//YOSSYxYOSSY OFFICIAL SITE - ECPv6.2.4//NONSGML v1.0//EN
CALSCALE:GREGORIAN
METHOD:PUBLISH
X-WR-CALNAME:YOSSYxYOSSY OFFICIAL SITE
X-ORIGINAL-URL:https://yossyxyossy.com
X-WR-CALDESC:YOSSYxYOSSY OFFICIAL SITE のイベント
REFRESH-INTERVAL;VALUE=DURATION:PT1H
X-Robots-Tag:noindex
X-PUBLISHED-TTL:PT1H
BEGIN:VTIMEZONE
TZID:Asia/Tokyo
BEGIN:STANDARD
TZOFFSETFROM:+0900
TZOFFSETTO:+0900
TZNAME:JST
DTSTART:20230101T000000
END:STANDARD
END:VTIMEZONE
BEGIN:VEVENT
DTSTART;VALUE=DATE:20231206
DTEND;VALUE=DATE:20231207
DTSTAMP:20260424T123119
CREATED:20231026T153839Z
LAST-MODIFIED:20231026T154112Z
UID:948-1701820800-1701907199@yossyxyossy.com
SUMMARY:H.M.C誕生祭対バンライブ2023
DESCRIPTION:■2023年12月6日(水)\n【タイトル】\nH.M.C誕生祭対バンライブ2023\n【時間】\nOPEN18:30 / START 19:00\n【料金】\n前売￥3\,500/当日￥4\,000 (別途ドリンク代)\n【出演者】\n大橋タカシ/YOSSY×YOSSY/H.M.C\n【会場】\nstudio＆cafe Make\n大阪府大阪市浪速区芦原１丁目２−６ \n予約はこちら\nhttps://tiget.net/events/269177 \n【入場順】\n1.アーティスト予約(番号順)\n2.当日(整列順)
URL:https://yossyxyossy.com/event/h-m-c%e8%aa%95%e7%94%9f%e7%a5%ad%e5%af%be%e3%83%90%e3%83%b3%e3%83%a9%e3%82%a4%e3%83%962023/
LOCATION:studio＆cafe Make\, 大阪府大阪市浪速区芦原１丁目２−６
END:VEVENT
END:VCALENDAR