BEGIN:VCALENDAR
VERSION:2.0
PRODID:-//YOSSYxYOSSY OFFICIAL SITE - ECPv6.2.4//NONSGML v1.0//EN
CALSCALE:GREGORIAN
METHOD:PUBLISH
X-ORIGINAL-URL:https://yossyxyossy.com
X-WR-CALDESC:YOSSYxYOSSY OFFICIAL SITE のイベント
REFRESH-INTERVAL;VALUE=DURATION:PT1H
X-Robots-Tag:noindex
X-PUBLISHED-TTL:PT1H
BEGIN:VTIMEZONE
TZID:Asia/Tokyo
BEGIN:STANDARD
TZOFFSETFROM:+0900
TZOFFSETTO:+0900
TZNAME:JST
DTSTART:20230101T000000
END:STANDARD
END:VTIMEZONE
BEGIN:VEVENT
DTSTART;VALUE=DATE:20231104
DTEND;VALUE=DATE:20231105
DTSTAMP:20260424T140749
CREATED:20231026T145615Z
LAST-MODIFIED:20231026T145615Z
UID:904-1699056000-1699142399@yossyxyossy.com
SUMMARY:新潟で吉田Vol.1
DESCRIPTION:11月4日 弾き語りワンマン\n「新潟で吉田vol.1」 \n@じょんのビレッジ \nOP12:15 / ST12:30\n¥3500 \n10月19日20時～予約開始\nTIGET(予約)\nhttps://tiget.net/events/277875 \nネットショップ(チケット購入)\nhttps://store.yossyxyossy.com \n※TIGETでご予約の後、ネットショップでチケットをご購入下さい
URL:https://yossyxyossy.com/event/%e6%96%b0%e6%bd%9f%e3%81%a7%e5%90%89%e7%94%b0vol-1/
LOCATION:じょんのビレッジ\, 〒940-0055 新潟県長岡市袋町２丁目１０８４\, 日本
ATTACH;FMTTYPE=image/jpeg:https://yossyxyossy.com/wp-content/uploads/2023/10/写真-2023-10-17-20-41-37.jpg
END:VEVENT
END:VCALENDAR