BEGIN:VCALENDAR
VERSION:2.0
PRODID:-//YOSSYxYOSSY OFFICIAL SITE - ECPv6.2.4//NONSGML v1.0//EN
CALSCALE:GREGORIAN
METHOD:PUBLISH
X-ORIGINAL-URL:https://yossyxyossy.com
X-WR-CALDESC:YOSSYxYOSSY OFFICIAL SITE のイベント
REFRESH-INTERVAL;VALUE=DURATION:PT1H
X-Robots-Tag:noindex
X-PUBLISHED-TTL:PT1H
BEGIN:VTIMEZONE
TZID:Asia/Tokyo
BEGIN:STANDARD
TZOFFSETFROM:+0900
TZOFFSETTO:+0900
TZNAME:JST
DTSTART:20230101T000000
END:STANDARD
END:VTIMEZONE
BEGIN:VEVENT
DTSTART;VALUE=DATE:20231029
DTEND;VALUE=DATE:20231030
DTSTAMP:20260424T155004
CREATED:20231026T144954Z
LAST-MODIFIED:20231026T145004Z
UID:899-1698537600-1698623999@yossyxyossy.com
SUMMARY:Hello Sun Ween 2023 年に1度のサンウィンパーティー
DESCRIPTION:●公演日時\n2023.10.29(日) \n11:00〜20:00（予定） \n●公演会場\n松江・松江山本金属株式会社グラウンド \n島根県松江市北陵町30番地 \n●出演者\n舟津真翔 / 岩瀬敬吾 / 遊吟 / 矢田武史 / 植田健一 / 秋休 / YOSSY× YOSSY / 原口誠 / 名迫僚太 / 矢田太朗 / 放ツ / 山根万理奈 / 六子 / 大橋タカシ / テルシ / うたまろ / 野上陽平 / 浮優 / 吉岡孝人 / H.M.C. / Shinji / 門脇大樹 / 他 \n●料金\n¥500　※仮装入場で無料
URL:https://yossyxyossy.com/event/hello-sun-ween-2023-%e5%b9%b4%e3%81%ab1%e5%ba%a6%e3%81%ae%e3%82%b5%e3%83%b3%e3%82%a6%e3%82%a3%e3%83%b3%e3%83%91%e3%83%bc%e3%83%86%e3%82%a3%e3%83%bc/
LOCATION:松江山本金属株式会社グラウンド\, 島根県松江市北陵町30番地\, 日本
ATTACH;FMTTYPE=image/jpeg:https://yossyxyossy.com/wp-content/uploads/2023/09/写真-2023-09-09-12-02-15.jpg
END:VEVENT
END:VCALENDAR