BEGIN:VCALENDAR
VERSION:2.0
PRODID:-//YOSSYxYOSSY OFFICIAL SITE - ECPv6.2.4//NONSGML v1.0//EN
CALSCALE:GREGORIAN
METHOD:PUBLISH
X-ORIGINAL-URL:https://yossyxyossy.com
X-WR-CALDESC:YOSSYxYOSSY OFFICIAL SITE のイベント
REFRESH-INTERVAL;VALUE=DURATION:PT1H
X-Robots-Tag:noindex
X-PUBLISHED-TTL:PT1H
BEGIN:VTIMEZONE
TZID:Asia/Tokyo
BEGIN:STANDARD
TZOFFSETFROM:+0900
TZOFFSETTO:+0900
TZNAME:JST
DTSTART:20230101T000000
END:STANDARD
END:VTIMEZONE
BEGIN:VEVENT
DTSTART;VALUE=DATE:20231028
DTEND;VALUE=DATE:20231029
DTSTAMP:20260424T155008
CREATED:20231026T105448Z
LAST-MODIFIED:20231026T125826Z
UID:862-1698451200-1698537599@yossyxyossy.com
SUMMARY:Hello Sun Ween2023前夜祭ライブ
DESCRIPTION:■2023年10月28日(土)\n【タイトル】\n『Hello Sun Ween2023前夜祭ライブ』 \n【時間】\nOPEN16:10/START16:40 \n【料金】\n前売￥3\,500/当日￥4\,000 (別途ドリンク代) \n【出演者】\n大橋タカシ/YOSSY×YOSSY/秋休/原口誠/うたまろ/植田健一/名迫僚太/テルシ/Rity/矢田武史 \n※遊吟、門脇大樹の出演はオープニングとセッションのみとなります。ご了承ください。 \n【会場】\ngreens baby\n島根県松江市殿町204 \n🔶予約はこちら\nhttps://tiget.net/events/273286 \n【入場順】\n1.アーティスト予約(番号順)\n2.当日(整列順)※予約で完売した場合当日券はありません。
URL:https://yossyxyossy.com/event/hello-sun-ween2023%e5%89%8d%e5%a4%9c%e7%a5%ad%e3%83%a9%e3%82%a4%e3%83%96/
LOCATION:greens baby\, 殿町204\, 松江市\, 島根県\, 日本
ATTACH;FMTTYPE=image/jpeg:https://yossyxyossy.com/wp-content/uploads/2023/10/写真-2023-09-24-23-58-17.jpg
END:VEVENT
END:VCALENDAR