BEGIN:VCALENDAR
VERSION:2.0
PRODID:-//YOSSYxYOSSY OFFICIAL SITE - ECPv6.2.4//NONSGML v1.0//EN
CALSCALE:GREGORIAN
METHOD:PUBLISH
X-ORIGINAL-URL:https://yossyxyossy.com
X-WR-CALDESC:YOSSYxYOSSY OFFICIAL SITE のイベント
REFRESH-INTERVAL;VALUE=DURATION:PT1H
X-Robots-Tag:noindex
X-PUBLISHED-TTL:PT1H
BEGIN:VTIMEZONE
TZID:Asia/Tokyo
BEGIN:STANDARD
TZOFFSETFROM:+0900
TZOFFSETTO:+0900
TZNAME:JST
DTSTART:20260101T000000
END:STANDARD
END:VTIMEZONE
BEGIN:VEVENT
DTSTART;VALUE=DATE:20260502
DTEND;VALUE=DATE:20260503
DTSTAMP:20260422T122720
CREATED:20260224T050902Z
LAST-MODIFIED:20260224T051430Z
UID:1769-1777680000-1777766399@yossyxyossy.com
SUMMARY:Drawing Our Harbor～GW3MAN
DESCRIPTION:2026年5月2日(土)\n【タイトル】\n「Drawing Our Harbor～GW3MAN」\n【時間】\nOPEN12:00/START12:30\n【料金】\n前売¥4\,000 当日¥4\,500(ドリンク代別)\n【出演者】\nYOSSYxYOSSY/shinji/H.M.C\n【会場】\nAgeha Base\n兵庫県神戸市中央区下山手通２丁目１−４ ＫＷビル 地下1F \n2/24 20:00 予約開始\nhttps://tiget.net/events/469611 \n【入場順】\n1. 各アーティスト予約(番号並列順)\n2.当日(予約で完売の場合は当日券出ません)\n＊オープン15分前までの整列はご遠慮下さい。ご協力お願い致します。
URL:https://yossyxyossy.com/event/drawing-our-harbor%ef%bd%9egw3man/
ATTACH;FMTTYPE=image/jpeg:https://yossyxyossy.com/wp-content/uploads/2026/02/S__56156318.jpg
END:VEVENT
BEGIN:VEVENT
DTSTART;VALUE=DATE:20260502
DTEND;VALUE=DATE:20260503
DTSTAMP:20260422T122720
CREATED:20260224T050959Z
LAST-MODIFIED:20260224T051252Z
UID:1772-1777680000-1777766399@yossyxyossy.com
SUMMARY:土江野家×吉田野家合同企画〜本日のおすすめは「唐揚げ豚汁定食」です。
DESCRIPTION:■2026年5月2日(土)\n【タイトル】\n土江野家×吉田野家合同企画〜本日のおすすめは「唐揚げ豚汁定食」です。\n【時間】\nOPEN18:30\n※来た方から食事を受け取って下さい♪\n【料金】\n前売¥7\,000食事付き(ドリンク代別)\n※各自ご自宅で愛用のお茶碗、お椀、箸をご持参ください。アレルギー等ある方は事前にご連絡ください。\n【出演者】\nYOSSYxYOSSY/shinji/H.M.C\n【会場】\nAgeha Base\n兵庫県神戸市中央区下山手通２丁目１−４ ＫＷビル 地下1F \n2/24 21:00予約開始\nhttps://tiget.net/events/469614 \n【入場順】\n1. 各アーティスト予約(番号並列順)\n2.当日(予約で完売の場合は当日券出ません)\n＊オープン15分前までの整列はご遠慮下さい。ご協力お願い致します。
URL:https://yossyxyossy.com/event/%e5%9c%9f%e6%b1%9f%e9%87%8e%e5%ae%b6x%e5%90%89%e7%94%b0%e9%87%8e%e5%ae%b6%e5%90%88%e5%90%8c%e4%bc%81%e7%94%bb%e3%80%9c%e6%9c%ac%e6%97%a5%e3%81%ae%e3%81%8a%e3%81%99%e3%81%99%e3%82%81%e3%81%af/
ATTACH;FMTTYPE=image/jpeg:https://yossyxyossy.com/wp-content/uploads/2026/02/S__56156308.jpg
END:VEVENT
BEGIN:VEVENT
DTSTART;VALUE=DATE:20260508
DTEND;VALUE=DATE:20260509
DTSTAMP:20260422T122720
CREATED:20260315T032357Z
LAST-MODIFIED:20260315T032500Z
UID:1830-1778198400-1778284799@yossyxyossy.com
SUMMARY:新潟
DESCRIPTION:詳細をお待ちください
URL:https://yossyxyossy.com/event/%e6%96%b0%e6%bd%9f-2/
END:VEVENT
BEGIN:VEVENT
DTSTART;VALUE=DATE:20260509
DTEND;VALUE=DATE:20260510
DTSTAMP:20260422T122720
CREATED:20260224T055337Z
LAST-MODIFIED:20260224T055423Z
UID:1810-1778284800-1778371199@yossyxyossy.com
SUMMARY:とち音むすびフェス!!2026 前夜祭
DESCRIPTION:「とち音むすびフェス!!2026 前夜祭」 \nとち音むすびフェスの前夜祭！！！室内にてたっぷりアーティストライブを堪能できます！ \n■日時\n2026年5月9日(土)\n開場11:40/開演12:10 \n■会場\n長岡市栃尾地域交流拠点施設トチオーレ大ホール\n(新潟県長岡市中央公園１−６７) \n■出演\nひなた\nナカノアツシ\n門松良祐\nナイトスターリリー(阿部祐也＆片山遼)\nYOSSY×YOSSY\n秋休\n朝香智子 \n■チケット代\n前売4\,000円 / 当日4\,500円(ドリンク別途) \n■会場\nトチオーレ 大ホール　(新潟県長岡市中央公園1番67号) \n★バスでお越しの方★\n・JR長岡駅大手口11番線から栃尾車庫行きバスで60分、「中央公園前」で下車、徒歩1分\n・JR長岡駅東口4番線から栃尾車庫行きバスで45分、「中央公園」で下車、徒歩1分\n※バスの本数に限りがあります。必ずご自身で調べてからご乗車ください。 \n★お車でお越しの方★\n会場に無料駐車場がありますが、数に限りがありますので出来る限りお乗り合わせの上お越しください。 \n■入場順\n1.TIGET予約(A～番号順)\n2.ひなたチケットメール予約(B～番号順)\n3.当日券(C～整列順) \n■チケット予約方法 ※全出演者共通予約受付となります。\n申し込み制限枚数はありません。 \n①下記「TIGET」より先着予約申込受付\nhttps://tiget.net/events/468569 \nアンケート欄に必ずお目当てのアーティストの名前を1組ご入力ください。 \n2名様以上でチケットお申込みされる場合には、人数分のお目当てのアーティスト名を教えてください！\n例）チケット4枚申込\n⇒4組分のお目当てのアーティスト名記載。 \n②メール予約\nhinata.ticket@gmail.com まで\n「件名:5/9 とち音むすびフェス前夜祭」\n「本文：1.氏名　2.日時・希望枚数　3.申込枚数分のお目当てのアーティスト」 \n——————\nTIGET予約番号でお申込みされた方が全員ご入場された後に、メール予約でのお申し込み者のご入場となります。\n—————— \n■予約受付開始\n2026年2月24日(火)19:00～\n※入場整理番号は先着順に発行されます。 \n※体調不良などで予約キャンセルをしなければいけない場合は、TIGETにて必ずキャンセル手続きを行ってください。\n（公演前日までは予約サイト内『予約サイト → マイページ → 購入・予約しているチケット』でキャンセル手続き可能です。それ以降はhinata.ticket@gmail.com　までご一報ください。）\n※※なお、公演日10日を切ってからのキャンセルの場合にはキャンセル料がかかります。予めご了承の上ご予約ください。\nキャンセル料：公演日10日前よりチケット代のみ100％ \n※翌日は野外にて無料イベント開催！ \n■飲食ブースについて\n前夜祭では数店舗出店の予定です。決まり次第でお知らせします！ \n■お車でお越しの場合\n会場に無料の駐車場はありますが、数に限りがあります。\n出来る限りお乗り合わせの上ご来場ください。 \n■各アーティストグッズ\n開場以降で各出演者準備ができ次第、販売開始です。\n販売の有無に関しては各出演アーティスト毎異なります。 \n■写真撮影について\n関係者以外のライブ演奏の撮影・録音・録画は禁止です。
URL:https://yossyxyossy.com/event/%e3%81%a8%e3%81%a1%e9%9f%b3%e3%82%80%e3%81%99%e3%81%b3%e3%83%95%e3%82%a7%e3%82%b92026-%e5%89%8d%e5%a4%9c%e7%a5%ad/
ATTACH;FMTTYPE=image/jpeg:https://yossyxyossy.com/wp-content/uploads/2026/02/20260510-1.jpg
END:VEVENT
BEGIN:VEVENT
DTSTART;VALUE=DATE:20260510
DTEND;VALUE=DATE:20260511
DTSTAMP:20260422T122720
CREATED:20260224T055210Z
LAST-MODIFIED:20260224T055210Z
UID:1807-1778371200-1778457599@yossyxyossy.com
SUMMARY:とち音むすびフェス!!2026
DESCRIPTION:「とち音むすびフェス!!2026」 \nここでしか味わえない栃尾の魅力が詰まったトチオーレにて野外フェス開催決定！\n山に囲まれた雄大な会場にて最高の音楽！そしてキッチンカー15台！ 心もお腹も満たされるハッピーな縁結びフェス！ \n■日時\n2026年5月10日(日)\n開場10:30/開演11:00\n※ライブ観覧エリアにはプレミア協賛チケットは整理番号順、通常入場は当日の整列順での入場となります。\n※イベント終了は18:30頃を予定しています。 \n■会場\nトチオーレ 屋根付き広場\n(新潟県長岡市中央公園1番67号) \n★バスでお越しの方★\n・JR長岡駅大手口11番線から栃尾車庫行きバスで60分、「中央公園前」で下車、徒歩1分\n・JR長岡駅東口4番線から栃尾車庫行きバスで45分、「中央公園」で下車、徒歩1分\n※バスの本数に限りがあります。必ずご自身で調べてからご乗車ください。 \n★お車でお越しの方★\n会場に無料駐車場がありますが、数に限りがありますので出来る限りお乗り合わせの上お越しください。 \n■出演\n＜ミュージック＞\nひなた\nナカノアツシ\nナイトスターリリー(阿部祐也＆片山遼)\nYOSSY×YOSSY\n秋休\nRafvery\nそよかぜ 大根雄馬\n朝香智子 \n＜ダンス＞\nLIC.SportsDanceStudio\nLuvDanceMovement\nGENEX Dance Studio \n＜司会＞\n中静祐介 \n＜えちご川口公式キャラクター＞\nかわぐっち \n※入場無料!!\n雨天時はトチオーレ館内にてライブイベント実施 \n＞＞＞プレミア協賛チケット!あり！！\n金額:10\,000円\n＊イベントステージ最前エリアにてイベントをお楽しみいただけます。\nプレミア缶バッジ、タオルを当日会場にてお渡しさせていただきます。（チケットの発送はありません。） \n申込手続き完了後に入場整理番号をご案内させていただきます。 \n※プレミア協賛チケットとは…\nフェスを続けていく為の開催に伴う協賛金として位置づけさせていただいております。\nイベント自体の開催中止以外は返金対応できません。予めご了承ください。 \n■プレミアチケット購入方法\nひなた通販サイトにて申込された方で受付・入金の確認が出来た方へ、\n申込期間終了後、抽選の上入場整理番号のご案内をさせていただきます。\n当日会場受付にて事前に缶バッチを引き換えてからライブ観覧スペースへご入場ください。\n最前列エリア内は自由席となります。 \n＞＞＞お申し込み方法\nひなた通販サイトにて受付 \n＜受付期間＞\n2026年2月24日(火)19:00～4月30日(木)23:59まで\n※入金はお申込み後、1週間以内にお済ませください。\nこれ以降のお申込みは当日会場にて行います。 \n■申し込みはこちらから！\nhttps://marukyu2020.cart.fc2.com/ \n———————————- \n■タイムテーブル後日発表！！！！\n※エンディングセッションあり！ \n■入場について\n会場準備もありますので、あまり早い時間からのご来場はご遠慮くださいますようお願いいたします。\n整列開始位置等は当日スタッフがご案内いたします。\n※当日の状況によりご案内が変動する可能性もあります。ご了承ください。 \n■飲食ブースについて\n各店舗準備ができ次第、順次販売開始となります。\n終了時刻も出店毎異なります。 \n■お車でお越しの場合\n会場に無料の駐車場はありますが、数に限りがあります。\n出来る限りお乗り合わせの上ご来場ください。 \n■各アーティストグッズ\n開場以降で各出演者準備ができ次第、販売開始です。\n販売の有無に関しては各出演アーティスト毎異なります。 \n■写真撮影について\n関係者以外のライブ演奏の撮影・録音・録画は禁止です。\nダンスパフォーマンス時、食べ物やご来場者の皆さま同士での撮影は可能です。
URL:https://yossyxyossy.com/event/%e3%81%a8%e3%81%a1%e9%9f%b3%e3%82%80%e3%81%99%e3%81%b3%e3%83%95%e3%82%a7%e3%82%b92026/
ATTACH;FMTTYPE=image/jpeg:https://yossyxyossy.com/wp-content/uploads/2026/02/20260510.jpg
END:VEVENT
BEGIN:VEVENT
DTSTART;VALUE=DATE:20260516
DTEND;VALUE=DATE:20260517
DTSTAMP:20260422T122720
CREATED:20260224T055828Z
LAST-MODIFIED:20260224T055836Z
UID:1816-1778889600-1778975999@yossyxyossy.com
SUMMARY:東京で吉田vol.15
DESCRIPTION:5月16日(土) \n弾き語りワンマン\n東京で吉田vol.15\n\n下北沢Lown \nOPEN19:00 START19:30\n¥3500 (1D代別) \n2月18日21時30分〜予約開始 \nhttps://tiget.net/events/468141
URL:https://yossyxyossy.com/event/1816/
ATTACH;FMTTYPE=image/jpeg:https://yossyxyossy.com/wp-content/uploads/2026/02/HBXDPHqa8AA53yy.jpg
END:VEVENT
BEGIN:VEVENT
DTSTART;VALUE=DATE:20260517
DTEND;VALUE=DATE:20260518
DTSTAMP:20260422T122720
CREATED:20260224T055549Z
LAST-MODIFIED:20260224T055549Z
UID:1813-1778976000-1779062399@yossyxyossy.com
SUMMARY:吉男が哲央と僚太に頼んだvol.2
DESCRIPTION:2026年5月17日(日)\n「吉男が哲央と僚太に頼んだvol.2」\n出演：大北哲央 / 名迫僚太 / YOSSYxYOSSY\n会場：下北沢Lown\n世田谷区北沢2-34-8\n北沢KMビル３階\n開場12:00 開演12:30\n前売¥3\,500 当日¥4\,000(1D代別途) \n■2月17日21:00〜予約開始(一括予約管理)\nhttps://tiget.net/events/466746\n※整理番号順入場
URL:https://yossyxyossy.com/event/%e5%90%89%e7%94%b7%e3%81%8c%e5%93%b2%e5%a4%ae%e3%81%a8%e5%83%9a%e5%a4%aa%e3%81%ab%e9%a0%bc%e3%82%93%e3%81%a0vol-2/
ATTACH;FMTTYPE=image/jpeg:https://yossyxyossy.com/wp-content/uploads/2026/02/S__43073539.jpg
END:VEVENT
END:VCALENDAR