BEGIN:VCALENDAR
VERSION:2.0
PRODID:-//YOSSYxYOSSY OFFICIAL SITE - ECPv6.2.4//NONSGML v1.0//EN
CALSCALE:GREGORIAN
METHOD:PUBLISH
X-WR-CALNAME:YOSSYxYOSSY OFFICIAL SITE
X-ORIGINAL-URL:https://yossyxyossy.com
X-WR-CALDESC:YOSSYxYOSSY OFFICIAL SITE のイベント
REFRESH-INTERVAL;VALUE=DURATION:PT1H
X-Robots-Tag:noindex
X-PUBLISHED-TTL:PT1H
BEGIN:VTIMEZONE
TZID:Asia/Tokyo
BEGIN:STANDARD
TZOFFSETFROM:+0900
TZOFFSETTO:+0900
TZNAME:JST
DTSTART:20260101T000000
END:STANDARD
END:VTIMEZONE
BEGIN:VEVENT
DTSTART;VALUE=DATE:20260313
DTEND;VALUE=DATE:20260314
DTSTAMP:20260422T104113
CREATED:20260115T032351Z
LAST-MODIFIED:20260115T032351Z
UID:1745-1773360000-1773446399@yossyxyossy.com
SUMMARY:WhiteEve 3-Man Live
DESCRIPTION:3月13日(金) \n「WhiteEve 3-Man Live」 \nAgeha Base \nOP18:30/ST19:00 \n前売3\,500円/当日¥4\,000 (2D代別) \nH.M.C/名迫僚太/YOSSY×YOSSY \nご予約はこちら\ntiget.net/events/457266 \n【入場順】 1.各アーティスト予約(並列番号順) 2.当日\nオープン15分前までは並べません
URL:https://yossyxyossy.com/event/whiteeve-3-man-live/
ATTACH;FMTTYPE=image/jpeg:https://yossyxyossy.com/wp-content/uploads/2026/01/G-Dnjf1aAAADCoF.jpg
END:VEVENT
BEGIN:VEVENT
DTSTART;VALUE=DATE:20260314
DTEND;VALUE=DATE:20260315
DTSTAMP:20260422T104113
CREATED:20260224T052152Z
LAST-MODIFIED:20260224T052234Z
UID:1779-1773446400-1773532799@yossyxyossy.com
SUMMARY:大阪で吉田vol.5
DESCRIPTION:3月14日(日)\n「大阪で吉田vol.5」\n会場:Meet’Space\n大阪府大阪市阿倍野区阿倍野筋２丁目１−１８ サードビル 4階 \n開場17:40開演18:00 \n¥3500 (1D代別途) \n2月18日日21:00〜予約開始\nhttps://tiget.net/events/467637
URL:https://yossyxyossy.com/event/%e5%a4%a7%e9%98%aa%e3%81%a7%e5%90%89%e7%94%b0vol-5/
ATTACH;FMTTYPE=image/jpeg:https://yossyxyossy.com/wp-content/uploads/2026/02/S__43221005.jpg
END:VEVENT
BEGIN:VEVENT
DTSTART;VALUE=DATE:20260319
DTEND;VALUE=DATE:20260320
DTSTAMP:20260422T104114
CREATED:20260115T032007Z
LAST-MODIFIED:20260115T032007Z
UID:1742-1773878400-1773964799@yossyxyossy.com
SUMMARY:大阪LOVER 2026 in March
DESCRIPTION:2026年3月19日(木)@LIVE HOUSE Rumio(大阪)\nタイトル：芳賀企画 presents\n「大阪LOVER 2026 in March」 \n出演：GA-HA-/2SIDE/CLOWN’S CROWN/YOSSY×YOSSY/今津直幸(ZILCONIA)/愛条ヒカル(CHAMPANCALL)\nadv¥ 紙チケット¥3900 チケットレス¥3400\nday¥3900 ※チケットレス（別途1D）\nopen 17:30 start 18:00 \n専用アドレス予約受付\nhagamemomemo@gmail.com\nお名前(フルネーム)/公演日/枚数/紙チケットorチケットレス/お目当て を 明記をお願いいたします。\n※1mailにつき最大4名/ご同伴の方のフルネーム記載お願いします \n入場順\n1.専用予約アドレス予約 紙チケット希望の方 ※open10分前 入場順抽選\n2.専用予約アドレス予約 チケットレス 希望の方 ※並んだ順\n3.当日 \n【配信】\n配信チケット：視聴無料 (全組視聴可能)\nアーカイブ：(永遠)\n投げ銭：\nツイキャス投げ銭　　無し\n浅草Goldsounds stores投げ銭　有り\n配信視聴URL：https://twitcasting.tv/c:fceg_account\nGoldsounds 投げ銭オンラインストア\nhttps://gshagastores.stores.jp/\n※各アーティスト写真の投げ銭アイコンにて投げ銭お願い致します。\n投げ銭頂いた方に各アーティストお礼データを送らせて頂きます。
URL:https://yossyxyossy.com/event/%e5%a4%a7%e9%98%aalover-2026-in-march/
ATTACH;FMTTYPE=image/jpeg:https://yossyxyossy.com/wp-content/uploads/2026/01/20260319_1.jpg
END:VEVENT
BEGIN:VEVENT
DTSTART;VALUE=DATE:20260320
DTEND;VALUE=DATE:20260321
DTSTAMP:20260422T104114
CREATED:20260106T135220Z
LAST-MODIFIED:20260106T135349Z
UID:1723-1773964800-1774051199@yossyxyossy.com
SUMMARY:TOMOFES the REAL vol.2
DESCRIPTION:⚠️チケットと予約を足して数に限りがあります。\n先に予約を受け付けまして、残った枚数のチケットを物販で販売させて頂きます。\n予約で埋まった場合はチケットの販売はありません。\n予約済みの方は物販でチケットに引き換え可能です。（受付中） \n3月20日 \nTOMOFES the REAL vol.2\n\n《出演者》秋休/そよかぜ大根雄馬/大橋タカシ/想ワレ/STAYG/ZILCONIA/立川翼/西村加奈/YOSSYxYOSSY/TOMOKI\n\n《会場》LIVE HOUSE CASHBOX\n神戸市中央区二宮町4-21-9 オレンジビル1F\n\n《時間》open 12:00 / start 13:00\n\n《料金》前売り5000円/当日5500円(D代別)\n\n《入場順》前売りチケット整列順→\n各アーティストご予約\n※予約受付の有無はアーティストにより異なりますのでアーティストへご確認ください。\n\n※当日の整列は開場の10分前よりお願いいたします。
URL:https://yossyxyossy.com/event/tomofes-the-real-vol-2/
ATTACH;FMTTYPE=image/jpeg:https://yossyxyossy.com/wp-content/uploads/2026/01/写真-2026-01-06-22-51-23.jpg
END:VEVENT
BEGIN:VEVENT
DTSTART;VALUE=DATE:20260328
DTEND;VALUE=DATE:20260329
DTSTAMP:20260422T104114
CREATED:20260224T052611Z
LAST-MODIFIED:20260224T052611Z
UID:1784-1774656000-1774742399@yossyxyossy.com
SUMMARY:神戸
DESCRIPTION:詳細をお待ちください
URL:https://yossyxyossy.com/event/%e7%a5%9e%e6%88%b8-9/
END:VEVENT
BEGIN:VEVENT
DTSTART;VALUE=DATE:20260329
DTEND;VALUE=DATE:20260330
DTSTAMP:20260422T104114
CREATED:20260224T052550Z
LAST-MODIFIED:20260224T052550Z
UID:1782-1774742400-1774828799@yossyxyossy.com
SUMMARY:大阪
DESCRIPTION:詳細をお待ちください
URL:https://yossyxyossy.com/event/%e5%a4%a7%e9%98%aa-6/
END:VEVENT
END:VCALENDAR