BEGIN:VCALENDAR
VERSION:2.0
PRODID:-//YOSSYxYOSSY OFFICIAL SITE - ECPv6.2.4//NONSGML v1.0//EN
CALSCALE:GREGORIAN
METHOD:PUBLISH
X-ORIGINAL-URL:https://yossyxyossy.com
X-WR-CALDESC:YOSSYxYOSSY OFFICIAL SITE のイベント
REFRESH-INTERVAL;VALUE=DURATION:PT1H
X-Robots-Tag:noindex
X-PUBLISHED-TTL:PT1H
BEGIN:VTIMEZONE
TZID:Asia/Tokyo
BEGIN:STANDARD
TZOFFSETFROM:+0900
TZOFFSETTO:+0900
TZNAME:JST
DTSTART:20260101T000000
END:STANDARD
END:VTIMEZONE
BEGIN:VEVENT
DTSTART;VALUE=DATE:20260207
DTEND;VALUE=DATE:20260208
DTSTAMP:20260422T122703
CREATED:20260106T134904Z
LAST-MODIFIED:20260115T030900Z
UID:1719-1770422400-1770508799@yossyxyossy.com
SUMMARY:｢伊東洋平 Sendai Music Live!! 2025–26 応援ライブ！〜Our Songs〜｣
DESCRIPTION:｢伊東洋平 Sendai Music Live!! 2025–26 応援ライブ！〜Our Songs〜｣\n日程：2026年2月7日（土）\n会場：Tommy’s Bar ＆ Live REMEMBER\n（宮城県仙台市青葉区国分町3-8-3新産業ビルB1F）\n☆仙台市地下鉄南北線勾当台公園駅から徒歩2分\n時間：15:30開場／16:00開演\n料金：前売3\,500円／当日4\,000円（＋当日１ドリンク代別途必要）\n出演：monmon／キュウマルゴ／大野瞬／そよかぜ大根雄馬／阿部祐也／YOSSYxYOSSY／大橋タカシ\n入場順：整理番号順（ご予約後、TIGETマイページよりご確認ください） \n▼チケット（予約フォーム）\n予約受付開始：2026年1月10日（土）10:00~\n予約フォーム：https://tiget.net/events/456497\n※TIGETの登録が必要となります。\n※定員に達し次第、終了いたします。\n※当日はTIGETのチケット画面表示の上、＜チケット代金＞と＜ドリンク代＞をお支払いください。\n※現金のみのお支払いとなりますので予めご了承ください。
URL:https://yossyxyossy.com/event/%e4%bb%99%e5%8f%b0%e3%83%a9%e3%82%a4%e3%83%96%e3%83%8f%e3%82%a6%e3%82%b9/
ATTACH;FMTTYPE=image/jpeg:https://yossyxyossy.com/wp-content/uploads/2026/01/LINE_NOTE_260115_1.jpg
END:VEVENT
BEGIN:VEVENT
DTSTART;VALUE=DATE:20260208
DTEND;VALUE=DATE:20260209
DTSTAMP:20260422T122703
CREATED:20260106T135000Z
LAST-MODIFIED:20260115T030958Z
UID:1721-1770508800-1770595199@yossyxyossy.com
SUMMARY:EBeanS  仙台フリーライブ
DESCRIPTION:詳細をお待ちください
URL:https://yossyxyossy.com/event/%e4%bb%99%e5%8f%b0%e3%83%95%e3%83%aa%e3%83%bc%e3%83%a9%e3%82%a4%e3%83%96%ef%bc%9f/
END:VEVENT
BEGIN:VEVENT
DTSTART;VALUE=DATE:20260214
DTEND;VALUE=DATE:20260215
DTSTAMP:20260422T122703
CREATED:20260106T133417Z
LAST-MODIFIED:20260106T133417Z
UID:1701-1771027200-1771113599@yossyxyossy.com
SUMMARY:Go!Upstairs! vol.132
DESCRIPTION:2026年2月14日(土)\n[タイトル]「Go!Upstairs! vol.132」 ＊有観客&配信ライブ\n[会場]ArtGarage C-Lump&UP(クランプアップ)\n[出演] 草野俊之介/YOSSY×YOSSY/若宮大起\n[開場/開演] 18:10/18:30（配信18:30～）\n[有観客予約方法]https://tiget.net/events/456975 \n\n[料金]有観客 3\,500円(1Drink別・自由席)/配信 3\,000円(システム手数料160円）\n[席]自由席\n[受付方法]各出演者にて\n[入場方法] 当日並んだ順の入場になります！\n＊当日開場10分前にスタッフがお呼びいたします\n(スタッフがお呼びするまでは近隣のご迷惑になりますのでお並び頂けませんのでご注意ください。) \n[配信購入ページ]\nhttps://premier.twitcasting.tv/c:bank_c_project/shopcart/413635\n＊必ず御指名のアーティスト名を記入してください
URL:https://yossyxyossy.com/event/goupstairs-vol-132/
ATTACH;FMTTYPE=image/jpeg:https://yossyxyossy.com/wp-content/uploads/2026/01/2.14.jpg
END:VEVENT
BEGIN:VEVENT
DTSTART;VALUE=DATE:20260215
DTEND;VALUE=DATE:20260216
DTSTAMP:20260422T122703
CREATED:20260201T093923Z
LAST-MODIFIED:20260201T093923Z
UID:1763-1771113600-1771199999@yossyxyossy.com
SUMMARY:大阪で吉田vol.4
DESCRIPTION:2月15日(日)\n弾き語りワンマン\n「大阪で吉田vol.4」 \n会場:Meet’Space\n大阪府大阪市阿倍野区阿倍野筋２丁目１−１８ サードビル 4階 \n開場14:15 開演14:30 \n¥3500 (1D代別途) \n🔶予約\nhttps://tiget.net/events/460957\n※整理番号順\n⚠️開場10分前までは並ばないで下さい
URL:https://yossyxyossy.com/event/%e5%a4%a7%e9%98%aa%e3%81%a7%e5%90%89%e7%94%b0vol-4/
ATTACH;FMTTYPE=image/jpeg:https://yossyxyossy.com/wp-content/uploads/2026/02/写真-2026-02-01-18-38-55.jpg
END:VEVENT
BEGIN:VEVENT
DTSTART;VALUE=DATE:20260222
DTEND;VALUE=DATE:20260223
DTSTAMP:20260422T122703
CREATED:20260106T134134Z
LAST-MODIFIED:20260106T134134Z
UID:1710-1771718400-1771804799@yossyxyossy.com
SUMMARY:新愉快な音楽仲間たちVOL.22
DESCRIPTION:新愉快な音楽仲間たちVOL22\n開催日　2026年2月22日（日）\n時間　OPEN 17:00 Start 17:30\n会場　Music Bar Perch\n会費　3\,500円＋ドリンク代\n出演者　うたまろ、市川セカイ、YOSSY×YOSSY、\n遊吟Shinji、近藤りょうや
URL:https://yossyxyossy.com/event/%e6%96%b0%e6%84%89%e5%bf%ab%e3%81%aa%e9%9f%b3%e6%a5%bd%e4%bb%b2%e9%96%93%e3%81%9f%e3%81%a1vol-22/
ATTACH;FMTTYPE=image/jpeg:https://yossyxyossy.com/wp-content/uploads/2026/01/写真-2026-01-06-22-36-07-1.jpg
END:VEVENT
BEGIN:VEVENT
DTSTART;VALUE=DATE:20260222
DTEND;VALUE=DATE:20260223
DTSTAMP:20260422T122703
CREATED:20260106T134255Z
LAST-MODIFIED:20260115T030654Z
UID:1713-1771718400-1771804799@yossyxyossy.com
SUMMARY:（昼）音子島inイオン八事店フリーライブ
DESCRIPTION:2026年2月22日(日)\n音子島inイオン八事ショッピングセンター \n12:00〜12:20 うたまろ\n12:25〜12:45 YOSSY×YOSSY\n12:50〜13:10 市川セカイ\n13:15〜13:35 遊吟Shinji\n13:40〜14:00 心やす丸\n14:05〜14:25 ねも（おんまゆず）\n14:30〜14:50 大野舞\n14:55〜15:15 紡生沙衣\n15:20〜15:40 夏目樹里\n15:45〜16:05 蒼井さな\n16:10〜16:30 平野里沙\n16:35〜16:55 長谷川まい
URL:https://yossyxyossy.com/event/%ef%bc%88%e6%98%bc%ef%bc%89%e9%9f%b3%e5%ad%90%e5%b3%b6in%e3%82%a4%e3%82%aa%e3%83%b3%e5%85%ab%e4%ba%8b%e5%ba%97%e3%83%95%e3%83%aa%e3%83%bc%e3%83%a9%e3%82%a4%e3%83%96/
ATTACH;FMTTYPE=image/jpeg:https://yossyxyossy.com/wp-content/uploads/2026/01/イオン八事2-22.jpg
END:VEVENT
BEGIN:VEVENT
DTSTART;VALUE=DATE:20260223
DTEND;VALUE=DATE:20260224
DTSTAMP:20260422T122703
CREATED:20260115T031314Z
LAST-MODIFIED:20260115T031314Z
UID:1739-1771804800-1771891199@yossyxyossy.com
SUMMARY:「ONE SOUND」 ダイエー桂南 フリーライブ
DESCRIPTION:2月23日(月祝)\n「ONE SOUND」\nダイエー桂南 \n観覧無料
URL:https://yossyxyossy.com/event/%e3%80%8cone-sound%e3%80%8d-%e3%83%80%e3%82%a4%e3%82%a8%e3%83%bc%e6%a1%82%e5%8d%97-%e3%83%95%e3%83%aa%e3%83%bc%e3%83%a9%e3%82%a4%e3%83%96/
ATTACH;FMTTYPE=image/jpeg:https://yossyxyossy.com/wp-content/uploads/2026/01/S__55681224.jpg
END:VEVENT
BEGIN:VEVENT
DTSTART;VALUE=DATE:20260228
DTEND;VALUE=DATE:20260301
DTSTAMP:20260422T122703
CREATED:20260106T133138Z
LAST-MODIFIED:20260106T133138Z
UID:1698-1772236800-1772323199@yossyxyossy.com
SUMMARY:HMR Collection LIVE
DESCRIPTION:2026年2月28日(土)\n「HMR Collection LIVE」\n出演：山口大貴 / YOSSYxYOSSY / Uken / 大橋タカシ / 門松良祐 / オオモリヨウヘイ\n会場：そよら上飯田\n愛知県名古屋市北区織部町1番1\n時間：12:00～\n料金：観覧無料\nhttps://www.aeon.jp/sc/soyora-kamiiida/\n主催/企画：株式会社Lit -Heart Music Records-
URL:https://yossyxyossy.com/event/hmr-collection-live-8/
ATTACH;FMTTYPE=image/jpeg:https://yossyxyossy.com/wp-content/uploads/2026/01/228-そよら-縦.jpg
END:VEVENT
END:VCALENDAR