BEGIN:VCALENDAR
VERSION:2.0
PRODID:-//YOSSYxYOSSY OFFICIAL SITE - ECPv6.2.4//NONSGML v1.0//EN
CALSCALE:GREGORIAN
METHOD:PUBLISH
X-ORIGINAL-URL:https://yossyxyossy.com
X-WR-CALDESC:YOSSYxYOSSY OFFICIAL SITE のイベント
REFRESH-INTERVAL;VALUE=DURATION:PT1H
X-Robots-Tag:noindex
X-PUBLISHED-TTL:PT1H
BEGIN:VTIMEZONE
TZID:Asia/Tokyo
BEGIN:STANDARD
TZOFFSETFROM:+0900
TZOFFSETTO:+0900
TZNAME:JST
DTSTART:20250101T000000
END:STANDARD
END:VTIMEZONE
BEGIN:VEVENT
DTSTART;VALUE=DATE:20251004
DTEND;VALUE=DATE:20251005
DTSTAMP:20260422T193454
CREATED:20250717T034531Z
LAST-MODIFIED:20250828T065609Z
UID:1536-1759536000-1759622399@yossyxyossy.com
SUMMARY:名迫僚太 Presents 「Life is」
DESCRIPTION:2025.10.4(土)\n名迫僚太 Presents 「Life is」 \n出演: Sion /STAYG/名迫僚太/YOSSY×YOSSY/Uken \nOPEN/START 18:30/19:00\nADV/DOOR ¥4500(1Food付き) \n会場：Live House BiRdLand\n香川県さぬき市志度２１８７−９ \n🔶予約はこちら\ntiget.net/events/419270\n整理番号順入場 TIGET一括予約
URL:https://yossyxyossy.com/event/%e9%a6%99%e5%b7%9d/
ATTACH;FMTTYPE=image/jpeg:https://yossyxyossy.com/wp-content/uploads/2025/07/IMG_9141.jpg
END:VEVENT
BEGIN:VEVENT
DTSTART;VALUE=DATE:20251004
DTEND;VALUE=DATE:20251005
DTSTAMP:20260422T193454
CREATED:20250828T070256Z
LAST-MODIFIED:20250828T070256Z
UID:1566-1759536000-1759622399@yossyxyossy.com
SUMMARY:うみまち音楽祭
DESCRIPTION:10月4日(土) \n会場：うみまち商店街 \n住所：香川県高松市瀬戸内町３０−５ \n観覧無料 \n11:30 Sion \n12:00 \n名迫僚太 \n12:30STAYG \n13:00Uken \n13:30 YOSSY×YOSSY \n14:00 MEiSM \n14:30橘花アヤカ
URL:https://yossyxyossy.com/event/%e3%81%86%e3%81%bf%e3%81%be%e3%81%a1%e9%9f%b3%e6%a5%bd%e7%a5%ad-2/
ATTACH;FMTTYPE=image/jpeg:https://yossyxyossy.com/wp-content/uploads/2025/08/IMG_0234.jpg
END:VEVENT
BEGIN:VEVENT
DTSTART;VALUE=DATE:20251005
DTEND;VALUE=DATE:20251006
DTSTAMP:20260422T193454
CREATED:20250828T070119Z
LAST-MODIFIED:20250828T070119Z
UID:1562-1759622400-1759708799@yossyxyossy.com
SUMMARY:うみまち音楽祭
DESCRIPTION:10月5日(日) \n会場：うみまち商店街 \n住所：香川県高松市瀬戸内町３０−５ \n観覧無料 \n13:00 橘花アヤカ \n13:30 岡林みよん \n14:00MEiSM \n14:30Sion \n15:00YOSSY×YOSSY \n15:30Uken \n16:00名迫僚太
URL:https://yossyxyossy.com/event/%e3%81%86%e3%81%bf%e3%81%be%e3%81%a1%e9%9f%b3%e6%a5%bd%e7%a5%ad/
ATTACH;FMTTYPE=image/jpeg:https://yossyxyossy.com/wp-content/uploads/2025/08/IMG_0234.jpg
END:VEVENT
BEGIN:VEVENT
DTSTART;VALUE=DATE:20251010
DTEND;VALUE=DATE:20251011
DTSTAMP:20260422T193454
CREATED:20250717T035431Z
LAST-MODIFIED:20250828T070751Z
UID:1538-1760054400-1760140799@yossyxyossy.com
SUMMARY:ひなたワンマン前夜祭
DESCRIPTION:「ひなたワンマン前夜祭」 \n■会場\n音楽食瞠\n(新潟県長岡市坂之上町2‐3‐3 B1) \n■日時\n2025年10月10日(金)\n開場15:30/開演16:00 \n■料金\n前売3\,500円/当日4\,000円\nドリンク代(別途500円) \n■出演\nひなた/ナカノアツシ/門松良祐/片山遼/山口大貴/YOSSY×YOSSY \n■入場順\n1.メール予約(お申し込み後にお送りするメールに記載の整理番号順での入場)\n2.当日券(整列順) \n■申込方法\n全出演者共通、メール予約での先着順受付となります。 \n受付開始日：2025年8月21日(木)19:00～先着順メール予約受付開始！\n※これより前のご予約は無効となりますのでお気をつけください。 \nhinata.ticket@gmail.com\n件名「10/10 ひなたワンマン前夜祭」\n本文「1.お名前（フルネームカタカナ）2.日にち　3.お目当てのアーティスト1組・申込枚数分」\nを明記の上メールをお送りください。\nメール受付が無事完了しましたら、いただいたメールアドレス宛てで「申込完了メール」をお送りします。\n申し込み完了メール到着まで1週間ほどお時間をいただきますので、お待ちください。 \n※注意事項※\n・料金は当日会場でのお支払いとなります。\n・必ず申込枚数分の【お目当てのアーティスト】をお知らせください。\n・予約完了メールが届かない事があるので、hinata.ticket@gmail.comからのメールを受信可能な設定にお願いします。\n・1週間以上経っても返信がない場合には、お申込みのメールが届いていない可能性があります。\n携帯電話の場合、ドメイン設定の確認、パソコンからの場合、迷惑メールフォルダなどご確認いただいたのち、お手数ではございますが、再度お申し込みください。
URL:https://yossyxyossy.com/event/%e6%96%b0%e6%bd%9f/
ATTACH;FMTTYPE=image/jpeg:https://yossyxyossy.com/wp-content/uploads/2025/07/IMG_0414.jpg
END:VEVENT
BEGIN:VEVENT
DTSTART;VALUE=DATE:20251012
DTEND;VALUE=DATE:20251013
DTSTAMP:20260422T193454
CREATED:20250717T040137Z
LAST-MODIFIED:20251003T114405Z
UID:1540-1760227200-1760313599@yossyxyossy.com
SUMMARY:音子島in関刃物まつり
DESCRIPTION:2025年10月12日(日)\n音子島in関刃物まつり\n会場:せきてらす\n\n10:00〜10:25音停キタ\n10:30〜10:50  AiMEL!!-あいめる-\n10:55〜11:15 究極人形\n11:20〜11:40 恋セ界\n11:45〜12:05 アステリア\n12:10〜12:30 蒼井さな\n12:35〜13:00 名迫僚太\n13:05〜13:30 ラフルーム\n13:35〜14:00 ONE LIFE ONE SOUL\n14:05〜14:25 近藤りょうや\n14:30〜14:55 YOSSYxYOSSY\n15:00〜15:20 遊吟 Shinji\n15:25〜15:45 蒼井さな\n15:50〜16:15 夏目樹里\n16:20〜16:45 田内瑠乃 \n10月12日せきてらす
URL:https://yossyxyossy.com/event/%e5%b2%90%e9%98%9c/
ATTACH;FMTTYPE=image/jpeg:https://yossyxyossy.com/wp-content/uploads/2025/07/1012せきてらす.jpg
END:VEVENT
BEGIN:VEVENT
DTSTART;VALUE=DATE:20251017
DTEND;VALUE=DATE:20251018
DTSTAMP:20260422T193454
CREATED:20251003T122826Z
LAST-MODIFIED:20251003T122826Z
UID:1582-1760659200-1760745599@yossyxyossy.com
SUMMARY:HMR Collection LIVE
DESCRIPTION:2025年10月17日(金)\n「HMR Collection LIVE」\n出演：山口大貴 / 大野瞬 / YOSSYxYOSSY\n会場：そよら上飯田\n愛知県名古屋市北区織部町1番1\n時間：❶12:00～ ❷14:00～\n料金：観覧無料\nhttps://www.aeon.jp/sc/soyora-kamiiida/\n主催/企画：株式会社Lit -Heart Music Records- \n2:00〜12:20 YOSSYxYOSSY\n12:20〜12:40 大野瞬\n12:40〜13:00 山口大貴 \n14:00〜14:20 YOSSYxYOSSY\n14:20〜14:40 大野瞬\n14:40〜15:00 山口大貴
URL:https://yossyxyossy.com/event/hmr-collection-live-6/
ATTACH;FMTTYPE=image/jpeg:https://yossyxyossy.com/wp-content/uploads/2025/10/写真-2025-10-03-21-26-46.jpg
END:VEVENT
BEGIN:VEVENT
DTSTART;VALUE=DATE:20251018
DTEND;VALUE=DATE:20251019
DTSTAMP:20260422T193454
CREATED:20251003T122550Z
LAST-MODIFIED:20251003T122550Z
UID:1579-1760745600-1760831999@yossyxyossy.com
SUMMARY:桂南ミュージックフェス
DESCRIPTION:2025年10月18日(土)\n山口大貴presents!!\n「桂南ミュージックフェス」\n出演：山口大貴 / 秋休 / 大野瞬 / YOSSYxYOSSY / 金島準一郎 / YU-DAI\n会場：ダイエー桂南店1F特設ステージ\n京都府京都市南区久世上久世町485\n時間：11:00〜\n料金：観覧無料 \nダイエー桂南店
URL:https://yossyxyossy.com/event/%e6%a1%82%e5%8d%97%e3%83%9f%e3%83%a5%e3%83%bc%e3%82%b8%e3%83%83%e3%82%af%e3%83%95%e3%82%a7%e3%82%b9-2/
ATTACH;FMTTYPE=image/jpeg:https://yossyxyossy.com/wp-content/uploads/2025/10/E8F8E059-786B-400F-A7C8-58D59AC0443E.jpg
END:VEVENT
BEGIN:VEVENT
DTSTART;VALUE=DATE:20251019
DTEND;VALUE=DATE:20251020
DTSTAMP:20260422T193454
CREATED:20250717T040352Z
LAST-MODIFIED:20251013T120744Z
UID:1542-1760832000-1760918399@yossyxyossy.com
SUMMARY:Feel The Maton LIVE!!2025
DESCRIPTION:メイトン愛用のシンガー･ソングライター&ギタリストが一堂に集結！さまざまなスタイルで活躍するアーティストをサポートする、オーストラリア発の老舗ギター･ブランド”メイトンギターズ”の公式ライブイベント！ \n『Feel The Maton LIVE!!2025』\n会場 ：神戸･チキンジョージ\n日時 ：2025年10月19日(日) open12:00/start12:30\nチケット：￥5\,000(税込) *御入場時に別途ドリンク代(600円)が必要です。 \n🔶チケット受付\n→https://tiget.net/events/405088\n※このイベントはTIGETからのご予約のみです。(*各アーティストの手売りはありません)\n※お目当てのアーティストを選択してご予約お願い致します。 \n*9/29追記\n進行MC：藤本幸利 \n＜入場順について＞\nご入場は整理番号順です。\nA001→B001～J001\nA002→B002～J002 \n*7/22追記\n・複数枚を同時お申込頂いた場合でも、整理番号順のご入場です。 \n※同時入場をご希望の場合\nお持ちの整理番号の最後の番号でご入場になります。\n（例:申込整理番号A001～A004をお持ちの場合→ 004の順番で同時入場可） \n各アーティストへの公平性を期す為の施策ですのでご了承ください。
URL:https://yossyxyossy.com/event/%e7%a5%9e%e6%88%b8-8/
ATTACH;FMTTYPE=image/jpeg:https://yossyxyossy.com/wp-content/uploads/2025/07/写真-2025-10-13-21-07-26.jpg
END:VEVENT
BEGIN:VEVENT
DTSTART;VALUE=DATE:20251025
DTEND;VALUE=DATE:20251026
DTSTAMP:20260422T193454
CREATED:20251003T124444Z
LAST-MODIFIED:20251003T124444Z
UID:1590-1761350400-1761436799@yossyxyossy.com
SUMMARY:ひなたの秘密基地inジョンノビレッジ
DESCRIPTION:「ひなたの秘密基地inジョンノビレッジ」 \n■日時\n2025年10月25日(土)\n開場11:30 / 開演12:00 \n■会場\n長岡 jyonnovillage\n(新潟県長岡市袋町2-1084-3F) \n■出演\nひなた/片山遼/ YOSSY×YOSSY / 山口大貴 \n■チケット\n前売3\,500円/当日4\,000円\nドリンク代(別途500円) \n■入場順\n申し込み後にお送りするメールに記載の整理番号順での入場となります。\n※お申込み完了された方には入場整理番号をメールさせていただきます。\n規定人数に達した場合には、キャンセル待ちのご案内メールをお送りいたします。 \n■予約方法メール予約\n2025年9月5日(金)19時～先着順メール申込受付開始！\n※この時間より前の受付は無効となってしまいますのでお気を付けください。 \n■申込方法\n【メール予約】\n全出演者共通一括メール先着メール受付となります。\n定員に達し次第、キャンセル待ちの受付に切り替えさせていただきます。\nお申込みが出来た方は申込完了メールを、申込が出来なかった方には不可のメールをいずれもメールさせていただきます。 \nhinata.ticket@gmail.com \n件名「10/25 ひなたの秘密基地」\n本文「1.お名前（フルネームカタカナ）2.日時・希望枚数 3.お目当てのアーティスト1組枚数分」を明記の上、メールをお送りください。 \nを明記の上、メールをお送りください。 \n※注意事項※\n・料金は当日会場でのお支払いとなります。\n・予約メール送信後7日以内には受付の可否を返信させていただきます。 \n※メール送信後7日以上経っても返信がない場合には、メールが届いていない可能性があります。\n携帯電話の場合、ドメイン設定の確認、パソコンからの場合、迷惑メールフォルダなどご確認いただいたのち、お手数ではございますが、再度お申し込みください。
URL:https://yossyxyossy.com/event/%e3%81%b2%e3%81%aa%e3%81%9f%e3%81%ae%e7%a7%98%e5%af%86%e5%9f%ba%e5%9c%b0in%e3%82%b8%e3%83%a7%e3%83%b3%e3%83%8e%e3%83%93%e3%83%ac%e3%83%83%e3%82%b8/
ATTACH;FMTTYPE=image/jpeg:https://yossyxyossy.com/wp-content/uploads/2025/10/Gz6Q95iaAAA54D1-1.jpg
END:VEVENT
BEGIN:VEVENT
DTSTART;VALUE=DATE:20251025
DTEND;VALUE=DATE:20251026
DTSTAMP:20260422T193454
CREATED:20251003T125948Z
LAST-MODIFIED:20251003T125948Z
UID:1597-1761350400-1761436799@yossyxyossy.com
SUMMARY:はんだ音楽フェスタ
DESCRIPTION:〜はんだ音楽フェスタ〜\n日時:10月25日(土)\n時間:12:30〜17:00\n場所:半田コミュニティセンター体育館\n(新潟県柏崎市岩上20-52) \n※ひなたさんの出演時間に少し出演する予定です
URL:https://yossyxyossy.com/event/%e3%81%af%e3%82%93%e3%81%a0%e9%9f%b3%e6%a5%bd%e3%83%95%e3%82%a7%e3%82%b9%e3%82%bf/
ATTACH;FMTTYPE=image/jpeg:https://yossyxyossy.com/wp-content/uploads/2025/10/G1HP7WDagAAkRVm.jpg
END:VEVENT
BEGIN:VEVENT
DTSTART;VALUE=DATE:20251026
DTEND;VALUE=DATE:20251027
DTSTAMP:20260422T193454
CREATED:20251003T125446Z
LAST-MODIFIED:20251003T125446Z
UID:1593-1761436800-1761523199@yossyxyossy.com
SUMMARY:川口 秋まつり2025
DESCRIPTION:「川口 秋まつり2025」\n■日時 2025年10月26日(日)\n9:30～15:30\n■会場 新潟県長岡市川口支所前特設会場\n■出演 ひなた/ナイトスターリリー(阿部祐也＆片山遼)/YOSSY×YOSSY/山口大貴/匂い蜂（河合 良)/AneMone\n※入場無料 \nhttps://www.echigo-kawaguchi.jp/event/3447.html
URL:https://yossyxyossy.com/event/%e5%b7%9d%e5%8f%a3-%e7%a7%8b%e3%81%be%e3%81%a4%e3%82%8a2025/
END:VEVENT
BEGIN:VEVENT
DTSTART;VALUE=DATE:20251030
DTEND;VALUE=DATE:20251031
DTSTAMP:20260422T193454
CREATED:20251003T133429Z
LAST-MODIFIED:20251003T133524Z
UID:1607-1761782400-1761868799@yossyxyossy.com
SUMMARY:Go!Upstairs! vol.113
DESCRIPTION:]2025年10月30日(木)\n[タイトル]「Go!Upstairs! vol.113」 ＊有観客&配信ライブ\n[会場]ArtGarage C-Lump&UP(クランプアップ)\n[出演] 名迫僚太/YOSSY×YOSSY/PANG from シュガーズ\n[開場/開演] 19:00/19:20（配信19:20～） \n3\,500円(1D代別) \n予約受付中\nhttps://tiget.net/events/434256\n当日整列順入場 ＊開場10分前にお声がけします \n配信\npremier.twitcasting.tv/c:bank_c_project/shopcart/398543\n＊御指名のアーティストを記入必須
URL:https://yossyxyossy.com/event/goupstairs-vol-113/
ATTACH;FMTTYPE=image/jpeg:https://yossyxyossy.com/wp-content/uploads/2025/10/10.30.jpg
END:VEVENT
END:VCALENDAR