BEGIN:VCALENDAR
VERSION:2.0
PRODID:-//YOSSYxYOSSY OFFICIAL SITE - ECPv6.2.4//NONSGML v1.0//EN
CALSCALE:GREGORIAN
METHOD:PUBLISH
X-ORIGINAL-URL:https://yossyxyossy.com
X-WR-CALDESC:YOSSYxYOSSY OFFICIAL SITE のイベント
REFRESH-INTERVAL;VALUE=DURATION:PT1H
X-Robots-Tag:noindex
X-PUBLISHED-TTL:PT1H
BEGIN:VTIMEZONE
TZID:Asia/Tokyo
BEGIN:STANDARD
TZOFFSETFROM:+0900
TZOFFSETTO:+0900
TZNAME:JST
DTSTART:20240101T000000
END:STANDARD
END:VTIMEZONE
BEGIN:VEVENT
DTSTART;VALUE=DATE:20241005
DTEND;VALUE=DATE:20241006
DTSTAMP:20260423T182707
CREATED:20240925T054309Z
LAST-MODIFIED:20240925T054404Z
UID:1081-1728086400-1728172799@yossyxyossy.com
SUMMARY:U.H.Y
DESCRIPTION:売り切れ \n2024年10月5日(土)\n「U.H.Y」\n出演：uuuuuuuU / H.M.C / YOSSYxYOSSY\n会場：下北沢Lown\n世田谷区北沢2-34-8\n北沢KMビル３階\n開場18:30 開演19:00\n前売¥3\,500 当日¥4\,000(D代別途) \n予約\nhttps://tiget.net/events/346920 \n整理番号順入場
URL:https://yossyxyossy.com/event/u-h-y/
LOCATION:下北沢Lown\, 世田谷区北沢2-34-8 北沢KMビル３階
ATTACH;FMTTYPE=image/jpeg:https://yossyxyossy.com/wp-content/uploads/2024/09/S__26656776.jpg
END:VEVENT
BEGIN:VEVENT
DTSTART;VALUE=DATE:20241006
DTEND;VALUE=DATE:20241007
DTSTAMP:20260423T182707
CREATED:20240804T173753Z
LAST-MODIFIED:20240925T054845Z
UID:1060-1728172800-1728259199@yossyxyossy.com
SUMMARY:芝音楽祭
DESCRIPTION:10/6(日)洋光台北団地芝生広場「芝音楽祭」\n会場:神奈川県横浜市磯子区洋光台2-1-35 \nSTART12:00\n※観覧無料、雨天中止 \n出演:オオモリヨウヘイ/森下邦太/須澤紀信/COCOA/尼丁隆吉/草野俊之介/齊藤真生/慈光/\nYOSSYxYOSSY/川原光貴/FASE/MOGURA \n12:00-12:25 森下邦太\n12:25-12:50 尼丁隆吉\n12:50-13:15 草野俊之介\n13:15-13:40 川原光貴\n13:40-14:05 MOGURA\n14:05-14:30 COCOA\n14:30-14:55 須澤紀信\n14:55-15:20 慈光\n15:20-15:45 齊藤真生\n15:45-16:10 FASE\n16:10-16:35 YOSSYxYOSSY\n16:35-17:00 オオモリヨウヘイ
URL:https://yossyxyossy.com/event/%e6%a8%aa%e6%b5%9c/
LOCATION:洋光台北団地芝生広場\, 神奈川県横浜市磯子区洋光台2-1-35
ATTACH;FMTTYPE=image/jpeg:https://yossyxyossy.com/wp-content/uploads/2024/08/S__26935310.jpg
END:VEVENT
BEGIN:VEVENT
DTSTART;VALUE=DATE:20241012
DTEND;VALUE=DATE:20241013
DTSTAMP:20260423T182707
CREATED:20240804T173819Z
LAST-MODIFIED:20240804T174908Z
UID:1062-1728691200-1728777599@yossyxyossy.com
SUMMARY:YOSSYとTAROO vol.4
DESCRIPTION:10/12(土)\n「YOSSYとTAROO vol.4」 \n会場：茨木 Mariana CAFE\nhttps://mariana-cafe.com/access/ \n出演：\nYOSSY×YOSSY\nTAROO from キャラメルパッキング \n開場/開演：18:00/18:30 \n料金：3500円\n＊1ドリンク代別途要・整理番号順入場 \nご予約：https://tiget.net/events/337664 \n今回の予約整理番号は少しややこしくなります。 偶数が YOSSYxYOSSYの予約となりますが、設定で偶数にできないので、各自で偶数の順番で認識して頂く形となります。 申し訳ありませんがよろしくお願いします。\n偶数のみが使える番号ですので 2.4.6.8.10.12.14….などが使える番号となります。\n予約整理番号「1」の方は「2」です 予約整理番号「2」の方は「4」となります 「3」の方は「6」となるため、ややこしくなります。\nこちらの表でご自分の番号を当てて見て下さい。\n「1」→「2」\n「2」→「4」\n「3」→「6」\n「4」→「8」\n「5」→「10」\n「6」→「12」\n「7」→「14」\n「8」→「16」\n「9」→「18」\n「10」→「20」\nとなりますので、よろしくお願いします。
URL:https://yossyxyossy.com/event/%e5%a4%a7%e9%98%aa/
ATTACH;FMTTYPE=image/jpeg:https://yossyxyossy.com/wp-content/uploads/2024/08/写真-2024-08-05-2-14-39.jpg
END:VEVENT
BEGIN:VEVENT
DTSTART;VALUE=DATE:20241013
DTEND;VALUE=DATE:20241014
DTSTAMP:20260423T182707
CREATED:20240925T062754Z
LAST-MODIFIED:20240925T062754Z
UID:1130-1728777600-1728863999@yossyxyossy.com
SUMMARY:Voice from CASHBOX at 御影クラッセ　昼
DESCRIPTION:※観覧無料 \n[タイトル]Voice from CASHBOX at 御影クラッセ\n[日程] 2024年10月13日(日)\n[時間/出演者]\n12:00 弱者は僕のせいだから\n12:35 YOSSY×YOSSY\n13:10 TAROO\n13:45 フクナガコウタロウ \n※雨天時決行(荒天時中止もありうる・当日判断) \n<場所>\n[会場]御影クラッセ 1階広場\n[住所]兵庫県神戸市東灘区御影中町3-2-1
URL:https://yossyxyossy.com/event/voice-from-cashbox-at-%e5%be%a1%e5%bd%b1%e3%82%af%e3%83%a9%e3%83%83%e3%82%bb%e3%80%80%e6%98%bc/
LOCATION:御影クラッセ 1階広場\, 兵庫県神戸市東灘区御影中町3-2-1
END:VEVENT
BEGIN:VEVENT
DTSTART;VALUE=DATE:20241013
DTEND;VALUE=DATE:20241014
DTSTAMP:20260423T182707
CREATED:20240925T063008Z
LAST-MODIFIED:20240925T063008Z
UID:1133-1728777600-1728863999@yossyxyossy.com
SUMMARY:Voice fromCASHBOX vol.199」夜
DESCRIPTION:[日程]2024年10月13日(日)\n[タイトル]「Voice fromCASHBOX vol.199」 ＊有観客&配信ライブ\n[会場]CASHBOX\n[出演]TAROO from キャラメルパッキング/YOSSY×YOSSY/フクナガコウタロウ/弱者は僕のせいだから\n[開場/開演] 17:30/18:00（配信18:00～） \n[有観客予約方法]\nhttps://tiget.net/events/345615 \n[配信購入ページ]\nhttps://twitcasting.tv/cashbox_kobe/shopcart/331073\n＊必ず御指名のアーティスト名を記入してください \n[料金]有観客 3\,500円(1Drink別途600円・自由席)/配信 3\,000円(システム手数料160円\n[席]自由席\n[受付方法]各出演者にて\n[入場方法]当日並んだ順の入場になります！\n＊当日開場10分前にスタッフがお呼びした時間より並んだ方順の入場となります！\n(スタッフがお呼びするまでは近隣のご迷惑になりますのでお並び頂けませんのでご注意ください。)
URL:https://yossyxyossy.com/event/voice-fromcashbox-vol-199%e3%80%8d%e5%a4%9c/
LOCATION:CASH BOX\, 兵庫県\, 神戸市中央区二宮町４丁目２１−９ オレンジハウス\, 651-0093\, 日本
END:VEVENT
BEGIN:VEVENT
DTSTART;VALUE=DATE:20241019
DTEND;VALUE=DATE:20241020
DTSTAMP:20260423T182707
CREATED:20240925T054021Z
LAST-MODIFIED:20240925T054021Z
UID:1078-1729296000-1729382399@yossyxyossy.com
SUMMARY:京上ル下ル vol.6
DESCRIPTION:【門松良祐　駄菓子屋ワンマンライブ　「京上ル下ル vol.6」】 \n■日時：2024年10月19日（土）　OPEN 18:00 START 19:00（19:50終了予定）\n※受付開始は17:30から！\n17:30に受付をさせて頂き、17:30から18:30までは駄菓子のお買い物が可能です。\n駄菓子屋さんの一般営業が18:00までですので、\nそれまでは一般のお客様のお買い物の妨げにならないようにご協力のほど、よろしくお願い致します。\nライブにお越しのお客様には18:00から18:30までが、ゆっくりお菓子を選んで頂ける時間になってます。\n■場所：太秦 帷子ノ辻 映菓座\n京都府京都市右京区太秦帷子ノ辻町30-3 ランデンプラザ帷子\nhttps://map.yahoo.co.jp/v2/place/Dgnnl-4Vj0I\n■料金：ライブは無料\n※ご来場者全員に「1000円分」の駄菓子購入チケットをお買い求め頂きます。\n※1000円の駄菓子チケットは店内全てで使えます。 \nそのほか、ビール、ホットコーヒー、ソフトドリンク数種類、デザートもご用意あり！ \n※駄菓子チケットは後日でも使用可能ですが、ただし、有効期限は2024年7月31日とさせてください。\n※出演者への「投げ銭」、「駄菓子の差し入れ」も大歓迎、ご協力よろしくお願い致します。\n■チケット予約方法：門松良祐オフィシャルサイトでのみの一括予約\n1.門松良祐ファンクラブ「鷲鼻学園」先行予約　2024年9月23日12:00〜9月29日23:59\n2.一般予約　2024年9月30日12:00〜　※定員になり次第、受付終了。 \nチケット予約はこちらから一括予約となります\n→https://kadochan.jp/ticket/\n■入場順：お菓子の購入後、一度、店外に出て頂き、18:30より、「整理番号順」にてご入場いただきます。\n整理番号はファンクラブが先行となり、一般予約の方はランダム抽選で割り振られます。ご了承下さい。 \n■出演者：門松良祐\nサポートキーボード　コイケマン55\n※ゲスト　YOSSY×YOSSY\n■お問い合わせ：映菓座　075-873-1201
URL:https://yossyxyossy.com/event/%e4%ba%ac%e4%b8%8a%e3%83%ab%e4%b8%8b%e3%83%ab-vol-6/
LOCATION:太秦 帷子ノ辻 映菓座 京都府京都市右京区太秦帷子ノ辻町30-3 ランデンプラザ帷子\, 太秦 帷子ノ辻 映菓座 京都府京都市右京区太秦帷子ノ辻町30-3 ランデンプラザ帷子
END:VEVENT
BEGIN:VEVENT
DTSTART;VALUE=DATE:20241025
DTEND;VALUE=DATE:20241026
DTSTAMP:20260423T182707
CREATED:20240925T055733Z
LAST-MODIFIED:20240925T055733Z
UID:1096-1729814400-1729900799@yossyxyossy.com
SUMMARY:HARU presents 「JUMP AROUND vol.44」
DESCRIPTION:【タイトル】\nHARU presents 「JUMP AROUND vol.44」 \n【日程】\n2024/10/25(金) \n【会場】\n西永福JAM \n【時間】\nOpen 17:30 Start 18:00 \n【出演】 \nHARU / D×M / YOSSY×YOSSY / KEN5 / 東京力車 / SUPER FANTASY \n【Ticket】\n前売り ¥3\,500- (1D別)\n当日 ¥4\,000- (1D別)\nツイキャスプレミア配信 ¥2\,500-\n配信ディスカウントチケット ¥2\,000-(来場者限定購入可) \n「ディスカウント配信チケット」とは..\n・ライブにご来場頂いた方限定で、\n通常より500円ほどお安い [¥2\,000-]で配信チケットをお買い求めいただけます。\n・当日の終演後、HARU物販にて販売させていただきます\n・ご購入時に、お目当てのアーティスト様をお伺いいたします。 \n【観覧チケット予約】 \n■TIGET\nhttps://tiget.net/events/346116\n※2024/9/13(金)20:00〜 \n【配信チケット販売】\n■ツイキャス\nhttps://twitcasting.tv/nishieifukujam/shopcart/331806\n※2024/10/18(金)12:00〜 \n【入場順】\n1.Tiget予約 (整理番号順/A1〜)\n2.アーティスト予約 (来場順)\n3.当日
URL:https://yossyxyossy.com/event/haru-presents-%e3%80%8cjump-around-vol-44%e3%80%8d/
LOCATION:西永福JAM\, 東京都杉並区永福３丁目３４−１４ 地下１階 桧垣ビル １階
ATTACH;FMTTYPE=image/jpeg:https://yossyxyossy.com/wp-content/uploads/2024/09/写真-2024-09-12-15-42-12-1.jpg
END:VEVENT
BEGIN:VEVENT
DTSTART;VALUE=DATE:20241026
DTEND;VALUE=DATE:20241027
DTSTAMP:20260423T182707
CREATED:20240925T055410Z
LAST-MODIFIED:20240925T055410Z
UID:1090-1729900800-1729987199@yossyxyossy.com
SUMMARY:🗼東京で吉田vol.8
DESCRIPTION:10月26日\n🗼東京で吉田vol.8\nstudio with \nOPEN18:00\nSTART18:20 \n予約はこちら\nhttps://tiget.net/events/346836
URL:https://yossyxyossy.com/event/%f0%9f%97%bc%e6%9d%b1%e4%ba%ac%e3%81%a7%e5%90%89%e7%94%b0vol-8/
LOCATION:studio with\, 東京都杉並区宮前２丁目２−1-S
ATTACH;FMTTYPE=image/jpeg:https://yossyxyossy.com/wp-content/uploads/2024/09/写真-2024-09-19-22-00-03-1.jpg
END:VEVENT
BEGIN:VEVENT
DTSTART;VALUE=DATE:20241031
DTEND;VALUE=DATE:20241101
DTSTAMP:20260423T182707
CREATED:20240925T060249Z
LAST-MODIFIED:20240925T060249Z
UID:1108-1730332800-1730419199@yossyxyossy.com
SUMMARY:神戸
DESCRIPTION:
URL:https://yossyxyossy.com/event/%e7%a5%9e%e6%88%b8/
END:VEVENT
END:VCALENDAR