BEGIN:VCALENDAR
VERSION:2.0
PRODID:-//YOSSYxYOSSY OFFICIAL SITE - ECPv6.2.4//NONSGML v1.0//EN
CALSCALE:GREGORIAN
METHOD:PUBLISH
X-WR-CALNAME:YOSSYxYOSSY OFFICIAL SITE
X-ORIGINAL-URL:https://yossyxyossy.com
X-WR-CALDESC:YOSSYxYOSSY OFFICIAL SITE のイベント
REFRESH-INTERVAL;VALUE=DURATION:PT1H
X-Robots-Tag:noindex
X-PUBLISHED-TTL:PT1H
BEGIN:VTIMEZONE
TZID:Asia/Tokyo
BEGIN:STANDARD
TZOFFSETFROM:+0900
TZOFFSETTO:+0900
TZNAME:JST
DTSTART:20240101T000000
END:STANDARD
END:VTIMEZONE
BEGIN:VEVENT
DTSTART;VALUE=DATE:20240706
DTEND;VALUE=DATE:20240707
DTSTAMP:20260423T234238
CREATED:20240610T132205Z
LAST-MODIFIED:20240610T132205Z
UID:990-1720224000-1720310399@yossyxyossy.com
SUMMARY:scramble intersection live〜vol.1〜
DESCRIPTION:7月6日\nscramble intersection live〜vol.1〜\n松江AZTiC canova \nOP11:00/ST12:00\n前¥2500/当¥3000(1D代別)\n＊高校生まで無料(1D代別) \n谷です/NaNiMo/Burnt Orange/MOZU/浮優/門脇大樹/うたまろ/YOSSYxYOSSY/uuuuuuuU/H.M.C \n3月11日21時〜予約開始 https://tiget.net/events/306912
URL:https://yossyxyossy.com/event/scramble-intersection-live%e3%80%9cvol-1%e3%80%9c/
LOCATION:松江AZTiC canova
ATTACH;FMTTYPE=image/jpeg:https://yossyxyossy.com/wp-content/uploads/2024/06/GIRk9QAawAAblbK.jpg
END:VEVENT
BEGIN:VEVENT
DTSTART;VALUE=DATE:20240707
DTEND;VALUE=DATE:20240708
DTSTAMP:20260423T234238
CREATED:20240610T132415Z
LAST-MODIFIED:20240610T132415Z
UID:996-1720310400-1720396799@yossyxyossy.com
SUMMARY:松江Green's Baby Star festival～結
DESCRIPTION:7月7日(日)\n松江Green’s Baby Star festival～結\n松江Green’s Baby 島根県松江市殿町２０４ \nOP14:30 / ST15:00\n前¥3\,500/当¥4\,000(D代別) \nうたまろ/YOSSYxYOSSY /uuuuuuuU/H.M.C \n入場順\n1. 予約(並列番号順)\n2.当日 \n3月26日20時〜予約開始 https://tiget.net/events/310210
URL:https://yossyxyossy.com/event/%e6%9d%be%e6%b1%9fgreens-baby-star-festival%ef%bd%9e%e7%b5%90/
LOCATION:松江Green’s Baby\, 島根県松江市殿町２０４
ATTACH;FMTTYPE=image/jpeg:https://yossyxyossy.com/wp-content/uploads/2024/06/GJg2U7TaIAA3sL2.jpg
END:VEVENT
BEGIN:VEVENT
DTSTART;VALUE=DATE:20240708
DTEND;VALUE=DATE:20240709
DTSTAMP:20260423T234238
CREATED:20240610T132858Z
LAST-MODIFIED:20240622T131933Z
UID:1000-1720396800-1720483199@yossyxyossy.com
SUMMARY:Bi-color Fluorite
DESCRIPTION:2024/7/8 (月) at LiveHouse Arc \n「 Bi-color Fluorite 」 \n[出演]\nHigh-G\nmarco\ntenoto\nYOSSY×YOSSY\nArclight \nOPEN 18：00 / START 18：30 \n■ご予約受付中！！\nhttps://tiget.net/events/326195\n＊整列順でのご入場となります\n(OPENの10分前~の整列でお願いします) \n前売 3\,000円 / 当日 3\,500円\n(ドリンク代600円別)
URL:https://yossyxyossy.com/event/bi-color-fluorite/
LOCATION:LIVE HOUSE Arc\, 大阪府大阪市都島区東野田町１丁目１−４ IBCビル 1F
ATTACH;FMTTYPE=image/jpeg:https://yossyxyossy.com/wp-content/uploads/2024/06/写真-2024-06-22-22-18-57.jpg
END:VEVENT
BEGIN:VEVENT
DTSTART;VALUE=DATE:20240714
DTEND;VALUE=DATE:20240715
DTSTAMP:20260423T234238
CREATED:20240622T132329Z
LAST-MODIFIED:20240622T132329Z
UID:1029-1720915200-1721001599@yossyxyossy.com
SUMMARY:東×名×阪3MAN LIVE
DESCRIPTION:2024年7月14日(日)\n「東×名×阪3MAN LIVE」 \n出演：山口大貴 / YOSSY x YOSSY / オオモリヨウヘイ \n会場：下北沢Lown\n世田谷区北沢2-34-8 北沢KMビル３階 \n開場18:00 開演18:30 前売¥3\,500 当日¥4\,000(D代別途) \nチケット予約(一括予約) https://tiget.net/events/327705
URL:https://yossyxyossy.com/event/%e6%9d%b1x%e5%90%8dx%e9%98%aa3man-live/
LOCATION:下北沢Lown\, 世田谷区北沢2-34-8 北沢KMビル３階
ATTACH;FMTTYPE=image/jpeg:https://yossyxyossy.com/wp-content/uploads/2024/06/写真-2024-06-22-22-20-39.jpg
END:VEVENT
BEGIN:VEVENT
DTSTART;VALUE=DATE:20240715
DTEND;VALUE=DATE:20240716
DTSTAMP:20260423T234238
CREATED:20240622T132436Z
LAST-MODIFIED:20240622T132442Z
UID:1033-1721001600-1721087999@yossyxyossy.com
SUMMARY:HMR Collection LIVE in 群馬
DESCRIPTION:2024年7月15日(月祝)\n「HMR Collection LIVE in 群馬」\n出演：山口大貴 / オオモリヨウヘイ / 大北哲央 / YOSSY x YOSSY\n会場：前橋リリカ\n群馬県前橋市国領町2-14-1 TEL:027-231-4180\n時間：①13:00～ ②15:00〜\n料金：観覧無料 https://www.lirica.sc/
URL:https://yossyxyossy.com/event/hmr-collection-live-in-%e7%be%a4%e9%a6%ac/
LOCATION:前橋リリカ\, 群馬県前橋市国領町2-14-1 TEL:027-231-4180
ATTACH;FMTTYPE=image/jpeg:https://yossyxyossy.com/wp-content/uploads/2024/06/写真-2024-06-22-22-20-39-1.jpg
END:VEVENT
END:VCALENDAR