BEGIN:VCALENDAR
VERSION:2.0
PRODID:-//YOSSYxYOSSY OFFICIAL SITE - ECPv6.2.4//NONSGML v1.0//EN
CALSCALE:GREGORIAN
METHOD:PUBLISH
X-WR-CALNAME:YOSSYxYOSSY OFFICIAL SITE
X-ORIGINAL-URL:https://yossyxyossy.com
X-WR-CALDESC:YOSSYxYOSSY OFFICIAL SITE のイベント
REFRESH-INTERVAL;VALUE=DURATION:PT1H
X-Robots-Tag:noindex
X-PUBLISHED-TTL:PT1H
BEGIN:VTIMEZONE
TZID:Asia/Tokyo
BEGIN:STANDARD
TZOFFSETFROM:+0900
TZOFFSETTO:+0900
TZNAME:JST
DTSTART:20230101T000000
END:STANDARD
END:VTIMEZONE
BEGIN:VEVENT
DTSTART;VALUE=DATE:20231104
DTEND;VALUE=DATE:20231105
DTSTAMP:20260424T123406
CREATED:20231026T145615Z
LAST-MODIFIED:20231026T145615Z
UID:904-1699056000-1699142399@yossyxyossy.com
SUMMARY:新潟で吉田Vol.1
DESCRIPTION:11月4日 弾き語りワンマン\n「新潟で吉田vol.1」 \n@じょんのビレッジ \nOP12:15 / ST12:30\n¥3500 \n10月19日20時～予約開始\nTIGET(予約)\nhttps://tiget.net/events/277875 \nネットショップ(チケット購入)\nhttps://store.yossyxyossy.com \n※TIGETでご予約の後、ネットショップでチケットをご購入下さい
URL:https://yossyxyossy.com/event/%e6%96%b0%e6%bd%9f%e3%81%a7%e5%90%89%e7%94%b0vol-1/
LOCATION:じょんのビレッジ\, 〒940-0055 新潟県長岡市袋町２丁目１０８４\, 日本
ATTACH;FMTTYPE=image/jpeg:https://yossyxyossy.com/wp-content/uploads/2023/10/写真-2023-10-17-20-41-37.jpg
END:VEVENT
BEGIN:VEVENT
DTSTART;VALUE=DATE:20231105
DTEND;VALUE=DATE:20231106
DTSTAMP:20260424T123406
CREATED:20231026T145854Z
LAST-MODIFIED:20231026T145854Z
UID:908-1699142400-1699228799@yossyxyossy.com
SUMMARY:秋の岩沼・名取音楽まつり
DESCRIPTION:｢秋の岩沼・名取音楽まつり｣ \n【日程】\n2023年11月5日(日) \n【会場】\n㐧三倉庫 el camino\n名取市植松新橋1-1\nhttps://d3-elcamino.com/ \n【時間】\n11:30〜16:00予定\n※時間は変更となる場合もございます。 \n【出演】\n伊東洋平\n楓\n加藤一行\nSweet Little Soul TS\nS♪maliz（ソマリズ）\nmonmon\nYOSSYxYOSSY\n渡邉華奈\n※五十音順 \n【料金】\n1\,000円（2オーダー別途要）\n※事前申込不要\n※代金は当日の入場時にお支払ください。\nまた、その際に、お目当ての出演者をお伺いいたします。 \n主催：伊東洋平事務局\n共催：㐧三倉庫 el camino\nお問合せ：伊東洋平事務局 yoheiito.info@gmail.com
URL:https://yossyxyossy.com/event/%e7%a7%8b%e3%81%ae%e5%b2%a9%e6%b2%bc%e3%83%bb%e5%90%8d%e5%8f%96%e9%9f%b3%e6%a5%bd%e3%81%be%e3%81%a4%e3%82%8a/
LOCATION:㐧三倉庫 el camino\, 名取市植松新橋1-1\, 日本
ATTACH;FMTTYPE=image/jpeg:https://yossyxyossy.com/wp-content/uploads/2023/10/写真-2023-10-16-23-21-01.jpg
END:VEVENT
BEGIN:VEVENT
DTSTART;VALUE=DATE:20231106
DTEND;VALUE=DATE:20231107
DTSTAMP:20260424T123406
CREATED:20231026T150205Z
LAST-MODIFIED:20231026T150205Z
UID:912-1699228800-1699315199@yossyxyossy.com
SUMMARY:伊東洋平 presents『The Sounds of Home “Sendai” vol.2
DESCRIPTION:■11月6日(月)\n｢伊東洋平 presents『The Sounds of Home “Sendai” vol.2』｣\n会場：ガブ/チカ\n仙台市青葉区一番町4-6-14 プランドルビル一番町B1\n時間：開場18:30 開演19:00\n出演：YOSSYxYOSSY / 伊東洋平\n料金：4\,000円(1ドリンク代別)\n《学生料金》小学生1\,000円 / 中学生1\,500円 / 高校生2\,000円(1ドリンク代別)\n※当日券各500円アップ\n入場順：当日整列順入場\nチケット：各出演者メール受付 ＊即日受付開始
URL:https://yossyxyossy.com/event/%e4%bc%8a%e6%9d%b1%e6%b4%8b%e5%b9%b3-presents%e3%80%8ethe-sounds-of-home-sendai-vol-2/
LOCATION:ガブ/チカ\, 仙台市青葉区一番町4-6-14 プランドルビル一番町B1
ATTACH;FMTTYPE=image/jpeg:https://yossyxyossy.com/wp-content/uploads/2023/10/写真-2023-10-18-18-22-28.jpg
END:VEVENT
BEGIN:VEVENT
DTSTART;VALUE=DATE:20231110
DTEND;VALUE=DATE:20231111
DTSTAMP:20260424T123406
CREATED:20231026T150503Z
LAST-MODIFIED:20231026T150658Z
UID:916-1699574400-1699660799@yossyxyossy.com
SUMMARY:1124BD 同級生 ツーマン
DESCRIPTION:2023.11.10(金)東京leafroom豪徳寺\n【1124BD 同級生 ツーマン】\n出演:THE NATURALKILLERS &YOSSY×YOSSY \n開場18:30\n開演19:00 \n料金 3000円+2オーダー
URL:https://yossyxyossy.com/event/1124bd-%e5%90%8c%e7%b4%9a%e7%94%9f-%e3%83%84%e3%83%bc%e3%83%9e%e3%83%b3/
LOCATION:leafroom豪徳寺\, 東京都世田谷区豪徳寺１丁目２３−１２ コンフォート豪徳寺3F
ATTACH;FMTTYPE=image/jpeg:https://yossyxyossy.com/wp-content/uploads/2023/10/写真-2023-09-06-22-27-28.jpg
END:VEVENT
BEGIN:VEVENT
DTSTART;VALUE=DATE:20231112
DTEND;VALUE=DATE:20231113
DTSTAMP:20260424T123406
CREATED:20231026T151304Z
LAST-MODIFIED:20231026T151340Z
UID:920-1699747200-1699833599@yossyxyossy.com
SUMMARY:月光歌-Moonlight- vol.3
DESCRIPTION:11月12日(日)\n山口大貴 × YOSSY 2MAN Live\n「月光歌-Moonlight- vol.3」 \n会場：Ageha Base \n山口大貴 / YOSSYxYOSSY \n開場17:30 開演18:00\n前売¥3\,000 当日¥3\,500(別途2オーダー制) \n予約はこちら\nhttps://t.co/r3BDz50Gu9 \n配信はこちら\nhttps://twitcasting.tv/agehabase/shopcart/264028
URL:https://yossyxyossy.com/event/920/
LOCATION:Ageha Base\, 兵庫県神戸市中央区下山手通２丁目１−４ 地下1F ＫＷビル
ATTACH;FMTTYPE=image/jpeg:https://yossyxyossy.com/wp-content/uploads/2023/10/写真-2023-09-27-13-54-37.jpg
END:VEVENT
BEGIN:VEVENT
DTSTART;VALUE=DATE:20231117
DTEND;VALUE=DATE:20231118
DTSTAMP:20260424T123407
CREATED:20231026T151615Z
LAST-MODIFIED:20231026T151623Z
UID:925-1700179200-1700265599@yossyxyossy.com
SUMMARY:I wanna like FRIDAY Vol.40
DESCRIPTION:「I wanna like FRIDAY Vol.40」\n2023.11.17(FRI)\n出演:TAROO from キャラメルパッキング/名迫僚太/YOSSY×YOSSY\nOPEN/START 18:30/19:00\nADV/DOOR ¥3000/¥3500(1drink別)\n配信料金:¥3000\n会場：Mariana CAFE\n住所：大阪府茨木市末広町3-33 末広ビル3F\n整理番号順 \n来場チケット🎫\nhttps://tiget.net/events/271160 \n配信チケットご購入🎟\nhttps://twitcasting.tv/nasa_ta735/shopcart/259952 \n＊御購入の際に必ず御指名のアーティストの記入をよろしくお願い致します。
URL:https://yossyxyossy.com/event/925/
LOCATION:Mariana CAFE\, 大阪府茨木市末広町3-33 末広ビル3F
ATTACH;FMTTYPE=image/jpeg:https://yossyxyossy.com/wp-content/uploads/2023/10/写真-2023-09-14-2-39-57.jpg
END:VEVENT
BEGIN:VEVENT
DTSTART;VALUE=DATE:20231118
DTEND;VALUE=DATE:20231119
DTSTAMP:20260424T123407
CREATED:20231026T152515Z
LAST-MODIFIED:20231026T152515Z
UID:937-1700265600-1700351999@yossyxyossy.com
SUMMARY:うたまろ presents 三重奏 Vol.0
DESCRIPTION:うたまろ presents\n三重奏 Vol.0\n11月18日\nOp15:30 St16:00 \n会場 松阪M’AXA 前3500円 / 当4000円（別途1D代）\n整理番号順入場 \nうたまろ / 亮二 / YOSSY×YOSSY / 想ワレ えみこ / 平野里沙 / 山口大貴 \n\n\n手売りは物販で発売中 \n予約はこちら(購入者の後入場)\nhttps://tiget.net/events/279023
URL:https://yossyxyossy.com/event/%e3%81%86%e3%81%9f%e3%81%be%e3%82%8d-presents-%e4%b8%89%e9%87%8d%e5%a5%8f-vol-0/
LOCATION:松阪M’AXA\, 三重県松阪市市場庄町１１４８−２
END:VEVENT
BEGIN:VEVENT
DTSTART;VALUE=DATE:20231119
DTEND;VALUE=DATE:20231120
DTSTAMP:20260424T123407
CREATED:20231026T153424Z
LAST-MODIFIED:20231026T154342Z
UID:943-1700352000-1700438399@yossyxyossy.com
SUMMARY:Noble boys vol.10 ～お誕生月special～
DESCRIPTION:11月19日(日)\n信政誠×YOSSY ツーマンライブwithゲスト\n「Noble boys vol.10 ～お誕生月special～」\n神戸Ageha Base \n開場17:00／開演17:30 \n￥3\,000（別途2D代） \n信政誠/YOSSY×YOSSY\nGuest : TOMOKI \n予約はこちら\nhttps://tiget.net/events/273793 \n配信はこちら\nhttps://twitcasting.tv/agehabase/shopcart/263900
URL:https://yossyxyossy.com/event/noble-boys-vol-10-%ef%bd%9e%e3%81%8a%e8%aa%95%e7%94%9f%e6%9c%88special%ef%bd%9e/
LOCATION:Ageha Base\, 兵庫県神戸市中央区下山手通２丁目１−４ 地下1F ＫＷビル
ATTACH;FMTTYPE=image/jpeg:https://yossyxyossy.com/wp-content/uploads/2023/10/263900-e2ee12ef-1.jpg
END:VEVENT
BEGIN:VEVENT
DTSTART;VALUE=DATE:20231122
DTEND;VALUE=DATE:20231123
DTSTAMP:20260424T123407
CREATED:20231026T151848Z
LAST-MODIFIED:20231026T151848Z
UID:930-1700611200-1700697599@yossyxyossy.com
SUMMARY:isao誕生日会
DESCRIPTION:11/22(水)\n「isao誕生日会」\nLIVE HOUSE Arc \nisaomonkey / 今津直幸 / 森翼 / YOSSY×YOSSY \nOP18:00 /ST18:30 前売¥3500 当日¥4000 10/10 20:00～ \n予約はこちら\nhttps://tiget.net/events/275848
URL:https://yossyxyossy.com/event/isao%e8%aa%95%e7%94%9f%e6%97%a5%e4%bc%9a/
LOCATION:LIVE HOUSE Arc\, 大阪府大阪市都島区東野田町１丁目１−４ IBCビル 1F
ATTACH;FMTTYPE=image/jpeg:https://yossyxyossy.com/wp-content/uploads/2023/10/写真-2023-10-07-2-59-34.jpg
END:VEVENT
BEGIN:VEVENT
DTSTART;VALUE=DATE:20231123
DTEND;VALUE=DATE:20231124
DTSTAMP:20260424T123407
CREATED:20231026T152859Z
LAST-MODIFIED:20231026T152859Z
UID:940-1700697600-1700783999@yossyxyossy.com
SUMMARY:Y-39
DESCRIPTION:11月23日(木祝)\nLive House Arc\nYOSSYxYOSSY生誕前夜祭\n「Y-39」 \n出演: タロオ / TOMOKI / 名迫僚太 / H.M.C / 山口大貴 / YOSSYxYOSSY \n🎫¥3\,500\n(別途1D代) \n開場17:00 開演17:30\n※当日整理番号抽選入場 \n■16:30～整理番号抽選開始\n(※16:20以降にお集まりください)\n⬇\n■16:50頃より整理番号順に整列開始\n(開場時間までにお越しいただければ整理番号は有効です)\n⬇\n■抽選されていない方はその後ろに整列順となります。\n16:50以降整列可能となります。 \n🟥予約はこちら\nhttps://tiget.net/events/271217\n整理番号は当日の抽選となっております\n抽選の整理番号次第ではスタンディングの可能性もございます。
URL:https://yossyxyossy.com/event/y-39/
LOCATION:LIVE HOUSE Arc\, 大阪府大阪市都島区東野田町１丁目１−４ IBCビル 1F
ATTACH;FMTTYPE=image/jpeg:https://yossyxyossy.com/wp-content/uploads/2023/10/写真-2023-09-14-1-06-58.jpg
END:VEVENT
BEGIN:VEVENT
DTSTART;VALUE=DATE:20231124
DTEND;VALUE=DATE:20231125
DTSTAMP:20260424T123407
CREATED:20231026T152140Z
LAST-MODIFIED:20231026T152140Z
UID:934-1700784000-1700870399@yossyxyossy.com
SUMMARY:誕生日で吉田2023
DESCRIPTION:11月24日(金)\nMariana CAFE\n弾き語りワンマン\n「誕生日で吉田2023」\nOP12:30 ST13:00 ¥3500(別途1D) \n予約はこちら\nhttps://tiget.net/events/276797 \n配信はこちら\nhttps://twitcasting.tv/yossyxyossy/shopcart/267106
URL:https://yossyxyossy.com/event/%e8%aa%95%e7%94%9f%e6%97%a5%e3%81%a7%e5%90%89%e7%94%b02023/
LOCATION:Mariana CAFE\, 大阪府茨木市末広町3-33 末広ビル3F
ATTACH;FMTTYPE=image/jpeg:https://yossyxyossy.com/wp-content/uploads/2023/10/写真-2023-10-11-22-58-38.jpg
END:VEVENT
END:VCALENDAR